{"text_format":"3","workbook":"xlsx","n_sheets":2,"sheets":["All","Filtered"],"not_rendered":{"macros":1,"defined_names":1},"read":"whole","date_system":"1900"}

{"sheet":"All","index":0,"n_rows":95,"n_cols":32,"rows_kept":95,"merged":[[1,28,3,28],[1,30,2,30],[1,31,2,31]]}
[null,"Kinross Road Runners 2018 Club Championship"]
[{"$nulls":4},"Alloa Half","Alloa Half","Tay Ten","Tay Ten","Kinross PTA 10k","Kinross PTA 10k","Dunblane 12","Dunblane 12","Rattray Half","Rattray  Half","Brig Bash 5m","Brig Bash 5m","Kn'khill 3.9M","Kn'hill 3.9M","Ceres 8M","Ceres 8M","Highland Half","Highland Half","P'lochry 10km","P'lochry 10km","Linlithgow 10k","Linlithgow 10k","Templeton 10","Templeton 10","No. of Races","Average Time","No. Races  for ranking","Best 5 Average Time"]
[{"$nulls":4},"Actual","SSS 1.4","Actual","SSS 0.7","Actual","SSS 1.3","Actual","SSS 1.9","10k Equiv","SSS 4.8","Actual","SSS 1.6","Actual","SSS 0.1","Actual","SSS 2.4","Actual","SSS 0.4","Actual","SSS 0.2","Actual","SSS 1.3","Actual","SSS 2.7"]
[null,"Surname","First",null,"hh:mm:ss","hh:mm:ss","hh:mm:ss","hh:mm:ss","hh:mm:ss","hh:mm:ss","hh:mm:ss","hh:mm:ss","hh:mm:ss","hh:mm:ss","hh:mm:ss","hh:mm:ss","hh:mm:ss","hh:mm:ss","hh:mm:ss","hh:mm:ss","hh:mm:ss","hh:mm:ss","hh:mm:ss","hh:mm:ss","hh:mm:ss","hh:mm:ss","hh:mm:ss","hh:mm:ss",null,"hh:mm:ss",null,"hh:mm:ss"]
[null,"Test","Test",null,1.1574074074074073E-5,{"$f":"98.2%*(E5*86400)*POWER((6.2138818/13.1094),1.07)/86400","v":5.1130793220129549E-6},1.1574074074074073E-5,{"$f":"99.3%*(G5*86400)*POWER((6.2138818/10),1.07)/86400","v":6.9077069199392513E-6},1.1574074074074073E-5,{"$f":"98.7%*(I5)","v":1.1423611111111111E-5},1.1574074074074073E-5,{"$f":"98.1%*(K5*86400)*POWER((6.2138818/7.45645),1.07)/86400","v":9.34209553582475e-06},1.1574074074074073E-5,{"$f":"95.2%*(M5*86400)*POWER((6.2138818/13.1094),1.07)/86400","v":4.9568752694056355E-6},1.1574074074074073E-5,{"$f":"98.4%*(O5*86400)*POWER((6.2138818/5),1.07)/86400","v":1.4370829881667117E-5},1.1574074074074073E-5,{"$f":"99.9%*(Q5*86400)*POWER((6.2138818/3.9),1.07)/86400","v":1.9033165031087641E-5},1.1574074074074073E-5,{"$f":"97.6%*(S5*86400)*POWER((6.2138818/8),1.07)/86400","v":8.6204152423109141E-6},null,{"$f":"99.6%*(U5*86400)*POWER((6.2138818/13.1094),1.07)/86400","v":0},1.1574074074074073E-5,{"$f":"99.8%*(W5)","v":1.1550925925925926E-5},1.1574074074074073E-5,{"$f":"98.7%*(Y5)","v":1.1423611111111111E-5},1.1574074074074073E-5,{"$f":"97.3%*(AA5*86400)*POWER((6.2138818/10),1.07)/86400","v":6.7685788852979771E-6},{"$f":"COUNT(F5,H5,J5,L5,N5,P5,R5,T5,V5,X5,Z5,AB5)","v":12},{"$f":"IFERROR(AVERAGE(F5,H5,J5,L5,N5,P5,R5,T5,V5,X5,Z5,AB5),\"No race run\")","v":9.125907852974532E-6},{"$f":"IF(COUNT(F5,H5,J5,L5:N5,P5,R5,T5,#REF!,X5)>5,5,COUNT(F5,H5,J5,L5:N5,P5,R5,T5,#REF!,X5))","v":5},{"$f":"IFERROR(IF(AC5>5,AVERAGE(SMALL((F5,H5,J5,L5,N5,P5,R5,T5,V5,X5,Z5,AB5),{1,2,3,4,5})),AD5),\"No race run\")","v":4.7492480793311643E-6}]
[null,"Scott","David","M",0.05627314814814815,{"$f":"98.2%*(E6*86400)*POWER((6.2138818/13.1094),1.07)/86400","v":0.024859791663626986},0.04189814814814815,{"$f":"99.3%*(G6*86400)*POWER((6.2138818/10),1.07)/86400","v":0.025005899050180087},0.025416666666666667,{"$f":"98.7%*(I6)","v":0.02508625},0.03136574074074074,{"$f":"98.1%*(K6*86400)*POWER((6.2138818/7.45645),1.07)/86400","v":0.02531707890208507},{"$nulls":4},0.01525462962962963,{"$f":"99.9%*(Q6*86400)*POWER((6.2138818/3.9),1.07)/86400","v":0.02508571151097351},0.03365740740740741,{"$f":"97.6%*(S6*86400)*POWER((6.2138818/8),1.07)/86400","v":0.02506816752464014},{"$nulls":4},0.02528935185185185,{"$f":"98.7%*(Y6)","v":0.024960590277777778},null,null,7,0.025054784132754797,{"$f":"IF(COUNT(F6,H6,J6,L6:N6,P6,R6,T6,#REF!,X6)>5,5,COUNT(F6,H6,J6,L6:N6,P6,R6,T6,#REF!,X6))","v":5},{"$f":"IFERROR(IF(AC6>5,AVERAGE(SMALL((F6,H6,J6,L6,N6,P6,R6,T6,V6,X6,Z6,AB6),{1,2,3,4,5})),AD6),\"No race run\")","v":0.0249960320054397}]
[null,"Strachan","Scott","M",0.05804398148148148,{"$f":"98.2%*(E7*86400)*POWER((6.2138818/13.1094),1.07)/86400","v":0.025642092799894968},0.042430555555555555,{"$f":"99.3%*(G7*86400)*POWER((6.2138818/10),1.07)/86400","v":0.0253236535684973},{"$nulls":6},0.020497685185185185,{"$f":"98.4%*(O7*86400)*POWER((6.2138818/5),1.07)/86400","v":0.025450739720432467},0.015300925925925926,{"$f":"99.9%*(Q7*86400)*POWER((6.2138818/3.9),1.07)/86400","v":0.02516184417109786},null,null,0.05635416666666667,{"$f":"99.6%*(U7*86400)*POWER((6.2138818/13.1094),1.07)/86400","v":0.02525051006721543},0.025034722222222222,{"$f":"99.8%*(W7)","v":0.02498465277777778},0.025648148148148146,0.02531472222222222,null,null,7,0.02530403076101972,{"$f":"IF(COUNT(F7,H7,J7,L7:N7,P7,R7,T7,#REF!,X7)>5,5,COUNT(F7,H7,J7,L7:N7,P7,R7,T7,#REF!,X7))","v":5},{"$f":"IFERROR(IF(AC7>5,AVERAGE(SMALL((F7,H7,J7,L7,N7,P7,R7,T7,V7,X7,Z7,AB7),{1,2,3,4,5})),AD7),\"No race run\")","v":0.02520707656136212}]
[null,"Kemp","Allan","M",0.06328703703703703,{"$f":"98.2%*(E8*86400)*POWER((6.2138818/13.1094),1.07)/86400","v":0.027958317732766833},0.04303240740740741,{"$f":"99.3%*(G8*86400)*POWER((6.2138818/10),1.07)/86400","v":0.02568285432833414},{"$nulls":16},0.02613425925925926,0.025794513888888888,null,null,3,0.026478561983329953,{"$f":"IF(COUNT(F8,H8,J8,L8:N8,P8,R8,T8,#REF!,X8)>5,5,COUNT(F8,H8,J8,L8:N8,P8,R8,T8,#REF!,X8))","v":2},{"$f":"IFERROR(IF(AC8>5,AVERAGE(SMALL((F8,H8,J8,L8,N8,P8,R8,T8,V8,X8,Z8,AB8),{1,2,3,4,5})),AD8),\"No race run\")","v":0.026478561983329953}]
[null,"Beveridge","John","M",{"$nulls":10},0.021956018518518517,{"$f":"98.4%*(O9*86400)*POWER((6.2138818/5),1.07)/86400","v":0.027261464285522525},{"$nulls":4},0.058460648148148144,{"$f":"99.6%*(U9*86400)*POWER((6.2138818/13.1094),1.07)/86400","v":0.026194357434689907},null,null,0.026747685185185183,0.026399965277777777,null,null,3,0.026618595665996735,{"$f":"IF(COUNT(F9,H9,J9,L9:N9,P9,R9,T9,#REF!,X9)>5,5,COUNT(F9,H9,J9,L9:N9,P9,R9,T9,#REF!,X9))","v":1},{"$f":"IFERROR(IF(AC9>5,AVERAGE(SMALL((F9,H9,J9,L9,N9,P9,R9,T9,V9,X9,Z9,AB9),{1,2,3,4,5})),AD9),\"No race run\")","v":0.026618595665996735}]
[null,"Newton","Matt","M",0.06138888888888889,{"$f":"98.2%*(E10*86400)*POWER((6.2138818/13.1094),1.07)/86400","v":0.027119772723956714},null,null,0.027199074074074073,{"$f":"98.7%*(I10)","v":0.02684548611111111},{"$nulls":14},0.02642361111111111,0.026080104166666666,null,null,3,0.026681787667244827,{"$f":"IF(COUNT(F10,H10,J10,L10:N10,P10,R10,T10,#REF!,X10)>5,5,COUNT(F10,H10,J10,L10:N10,P10,R10,T10,#REF!,X10))","v":2},{"$f":"IFERROR(IF(AC10>5,AVERAGE(SMALL((F10,H10,J10,L10,N10,P10,R10,T10,V10,X10,Z10,AB10),{1,2,3,4,5})),AD10),\"No race run\")","v":0.026681787667244827}]
[null,"Hill","Martin","M",0.06302083333333333,{"$f":"98.2%*(E11*86400)*POWER((6.2138818/13.1094),1.07)/86400","v":0.02784071690836054},0.046678240740740735,{"$f":"99.3%*(G11*86400)*POWER((6.2138818/10),1.07)/86400","v":0.027858782008114993},0.028252314814814813,{"$f":"98.7%*(I11)","v":0.02788503472222222},0.0346875,{"$f":"98.1%*(K11*86400)*POWER((6.2138818/7.45645),1.07)/86400","v":0.027998260320866775},{"$nulls":4},0.01716435185185185,{"$f":"99.9%*(Q11*86400)*POWER((6.2138818/3.9),1.07)/86400","v":0.02822618374110297},{"$nulls":6},0.028402777777777777,0.028033541666666665,null,null,6,0.027973753227889028,{"$f":"IF(COUNT(F11,H11,J11,L11:N11,P11,R11,T11,#REF!,X11)>5,5,COUNT(F11,H11,J11,L11:N11,P11,R11,T11,#REF!,X11))","v":5},{"$f":"IFERROR(IF(AC11>5,AVERAGE(SMALL((F11,H11,J11,L11,N11,P11,R11,T11,V11,X11,Z11,AB11),{1,2,3,4,5})),AD11),\"No race run\")","v":0.02792326712524624}]
[null,"Freck","Sandy","M",null,null,0.04717592592592593,{"$f":"99.3%*(G12*86400)*POWER((6.2138818/10),1.07)/86400","v":0.02815581340567239},{"$nulls":20},1,0.02815581340567239,{"$f":"IF(COUNT(F12,H12,J12,L12:N12,P12,R12,T12,#REF!,X12)>5,5,COUNT(F12,H12,J12,L12:N12,P12,R12,T12,#REF!,X12))","v":1},{"$f":"IFERROR(IF(AC12>5,AVERAGE(SMALL((F12,H12,J12,L12,N12,P12,R12,T12,V12,X12,Z12,AB12),{1,2,3,4,5})),AD12),\"No race run\")","v":0.02815581340567239}]
[null,"Gordon","Jillian","F",null,null,0.04628472222222222,{"$f":"99.3%*(G13*86400)*POWER((6.2138818/10),1.07)/86400","v":0.027623919972837065},{"$nulls":16},0.029155092592592594,{"$f":"98.7%*(Y13)","v":0.02877607638888889},null,null,2,0.028199998180862978,{"$f":"IF(COUNT(F13,H13,J13,L13:N13,P13,R13,T13,#REF!,X13)>5,5,COUNT(F13,H13,J13,L13:N13,P13,R13,T13,#REF!,X13))","v":1},{"$f":"IFERROR(IF(AC13>5,AVERAGE(SMALL((F13,H13,J13,L13,N13,P13,R13,T13,V13,X13,Z13,AB13),{1,2,3,4,5})),AD13),\"No race run\")","v":0.028199998180862978}]
[null,"Nisbet","Fiona","F",null,null,0.04802083333333334,{"$f":"99.3%*(G14*86400)*POWER((6.2138818/10),1.07)/86400","v":0.02866007601082796},null,null,0.03635416666666667,{"$f":"98.1%*(K14*86400)*POWER((6.2138818/7.45645),1.07)/86400","v":0.029343522078025534},null,null,0.023414351851851853,{"$f":"98.4%*(O14*86400)*POWER((6.2138818/5),1.07)/86400","v":0.029072188850612586},0.017870370370370373,{"$f":"99.9%*(Q14*86400)*POWER((6.2138818/3.9),1.07)/86400","v":0.02938720680799932},{"$nulls":6},0.030000000000000002,{"$f":"98.7%*(Y14)","v":0.02961},null,null,5,0.02921459874949308,{"$f":"IF(COUNT(F14,H14,J14,L14:N14,P14,R14,T14,#REF!,X14)>5,5,COUNT(F14,H14,J14,L14:N14,P14,R14,T14,#REF!,X14))","v":4},{"$f":"IFERROR(IF(AC14>5,AVERAGE(SMALL((F14,H14,J14,L14,N14,P14,R14,T14,V14,X14,Z14,AB14),{1,2,3,4,5})),AD14),\"No race run\")","v":0.02921459874949308}]
[null,"Allcoat","Paul","M",0.06719907407407406,{"$f":"98.2%*(E15*86400)*POWER((6.2138818/13.1094),1.07)/86400","v":0.029686538543607217},{"$nulls":8},0.023344907407407408,{"$f":"98.4%*(O15*86400)*POWER((6.2138818/5),1.07)/86400","v":0.028985963871322584},0.01765046296296296,{"$f":"99.9%*(Q15*86400)*POWER((6.2138818/3.9),1.07)/86400","v":0.029025576672408647},{"$nulls":6},0.030300925925925926,{"$f":"98.7%*(Y15)","v":0.02990701388888889},0.05068287037037037,{"$f":"97.3%*(AA15*86400)*POWER((6.2138818/10),1.07)/86400","v":0.029639606938719844},5,0.029448939982989437,{"$f":"IF(COUNT(F15,H15,J15,L15:N15,P15,R15,T15,#REF!,X15)>5,5,COUNT(F15,H15,J15,L15:N15,P15,R15,T15,#REF!,X15))","v":3},{"$f":"IFERROR(IF(AC15>5,AVERAGE(SMALL((F15,H15,J15,L15,N15,P15,R15,T15,V15,X15,Z15,AB15),{1,2,3,4,5})),AD15),\"No race run\")","v":0.029448939982989437}]
[null,"Freck","Sandy","M",0.06934027777777778,{"$f":"98.2%*(E16*86400)*POWER((6.2138818/13.1094),1.07)/86400","v":0.030632458218179615},null,null,0.028807870370370373,{"$f":"98.7%*(I16)","v":0.028433368055555557},{"$nulls":18},2,0.029532913136867588,{"$f":"IF(COUNT(F16,H16,J16,L16:N16,P16,R16,T16,#REF!,X16)>5,5,COUNT(F16,H16,J16,L16:N16,P16,R16,T16,#REF!,X16))","v":2},{"$f":"IFERROR(IF(AC16>5,AVERAGE(SMALL((F16,H16,J16,L16,N16,P16,R16,T16,V16,X16,Z16,AB16),{1,2,3,4,5})),AD16),\"No race run\")","v":0.029532913136867588}]
[null,"Jones","Tim","M",{"$nulls":4},0.030219907407407407,{"$f":"98.7%*(I17)","v":0.02982704861111111},0.03684027777777778,{"$f":"98.1%*(K17*86400)*POWER((6.2138818/7.45645),1.07)/86400","v":0.02973589009053018},{"$nulls":6},0.040185185185185185,{"$f":"97.6%*(S17*86400)*POWER((6.2138818/8),1.07)/86400","v":0.029930081721303493},0.06524305555555555,{"$f":"99.6%*(U17*86400)*POWER((6.2138818/13.1094),1.07)/86400","v":0.029233338518975846},0.0290162037037037,{"$f":"99.8%*(W17)","v":0.028958171296296294},{"$nulls":4},5,0.029536906047643384,{"$f":"IF(COUNT(F17,H17,J17,L17:N17,P17,R17,T17,#REF!,X17)>5,5,COUNT(F17,H17,J17,L17:N17,P17,R17,T17,#REF!,X17))","v":4},{"$f":"IFERROR(IF(AC17>5,AVERAGE(SMALL((F17,H17,J17,L17,N17,P17,R17,T17,V17,X17,Z17,AB17),{1,2,3,4,5})),AD17),\"No race run\")","v":0.029536906047643384}]
[null,"Hutt","Sarah","F",{"$nulls":8},0.07128472222222222,{"$f":"95.2%*(M18*86400)*POWER((6.2138818/13.1094),1.07)/86400","v":0.030529394784269304},0.023657407407407408,{"$f":"98.4%*(O18*86400)*POWER((6.2138818/5),1.07)/86400","v":0.029373976278127593},0.017858796296296296,{"$f":"99.9%*(Q18*86400)*POWER((6.2138818/3.9),1.07)/86400","v":0.029368173642968228},null,null,0.06646990740740741,{"$f":"99.6%*(U18*86400)*POWER((6.2138818/13.1094),1.07)/86400","v":0.029783051820911528},null,null,0.030138888888888885,{"$f":"98.7%*(Y18)","v":0.02974708333333333},0.05096064814814815,{"$f":"97.3%*(AA18*86400)*POWER((6.2138818/10),1.07)/86400","v":0.02980205283196699},6,0.029767288781929496,{"$f":"IF(COUNT(F18,H18,J18,L18:N18,P18,R18,T18,#REF!,X18)>5,5,COUNT(F18,H18,J18,L18:N18,P18,R18,T18,#REF!,X18))","v":4},{"$f":"IFERROR(IF(AC18>5,AVERAGE(SMALL((F18,H18,J18,L18,N18,P18,R18,T18,V18,X18,Z18,AB18),{1,2,3,4,5})),AD18),\"No race run\")","v":0.029614867581461535}]
[null,"Sinclair","Ally","M",0.06934027777777778,{"$f":"98.2%*(E19*86400)*POWER((6.2138818/13.1094),1.07)/86400","v":0.030632458218179615},null,null,0.031828703703703706,{"$f":"98.7%*(I19)","v":0.03141493055555556},{"$nulls":4},0.023750000000000004,{"$f":"98.4%*(O19*86400)*POWER((6.2138818/5),1.07)/86400","v":0.029488942917180933},0.017465277777777777,{"$f":"99.9%*(Q19*86400)*POWER((6.2138818/3.9),1.07)/86400","v":0.028721046031911248},{"$nulls":10},4,0.030064344430706838,{"$f":"IF(COUNT(F19,H19,J19,L19:N19,P19,R19,T19,#REF!,X19)>5,5,COUNT(F19,H19,J19,L19:N19,P19,R19,T19,#REF!,X19))","v":4},{"$f":"IFERROR(IF(AC19>5,AVERAGE(SMALL((F19,H19,J19,L19,N19,P19,R19,T19,V19,X19,Z19,AB19),{1,2,3,4,5})),AD19),\"No race run\")","v":0.030064344430706838}]
[null,"Blair","Steven","M",{"$nulls":4},0.03203703703703704,{"$f":"98.7%*(I20)","v":0.031620555555555555},{"$nulls":4},0.024016203703703706,{"$f":"98.4%*(O20*86400)*POWER((6.2138818/5),1.07)/86400","v":0.029819472004459273},0.017592592592592594,{"$f":"99.9%*(Q20*86400)*POWER((6.2138818/3.9),1.07)/86400","v":0.028930410847253216},{"$nulls":6},0.03037037037037037,{"$f":"98.7%*(Y20)","v":0.029975555555555554},null,null,4,0.030086498490705903,{"$f":"IF(COUNT(F20,H20,J20,L20:N20,P20,R20,T20,#REF!,X20)>5,5,COUNT(F20,H20,J20,L20:N20,P20,R20,T20,#REF!,X20))","v":3},{"$f":"IFERROR(IF(AC20>5,AVERAGE(SMALL((F20,H20,J20,L20,N20,P20,R20,T20,V20,X20,Z20,AB20),{1,2,3,4,5})),AD20),\"No race run\")","v":0.030086498490705903}]
[null,"Creese","Jonathan","M",{"$nulls":4},0.030972222222222224,{"$f":"98.7%*(I21)","v":0.030569583333333334},{"$nulls":18},1,0.030569583333333334,{"$f":"IF(COUNT(F21,H21,J21,L21:N21,P21,R21,T21,#REF!,X21)>5,5,COUNT(F21,H21,J21,L21:N21,P21,R21,T21,#REF!,X21))","v":1},{"$f":"IFERROR(IF(AC21>5,AVERAGE(SMALL((F21,H21,J21,L21,N21,P21,R21,T21,V21,X21,Z21,AB21),{1,2,3,4,5})),AD21),\"No race run\")","v":0.030569583333333334}]
[null,"Dobson","Judith","F",null,null,0.04981481481481481,{"$f":"99.3%*(G22*86400)*POWER((6.2138818/10),1.07)/86400","v":0.02973077058341854},null,null,0.03912037037037037,{"$f":"98.1%*(K22*86400)*POWER((6.2138818/7.45645),1.07)/86400","v":0.031576282911087654},0.07318287037037037,{"$f":"95.2%*(M22*86400)*POWER((6.2138818/13.1094),1.07)/86400","v":0.03134232232845183},0.025833333333333333,{"$f":"98.4%*(O22*86400)*POWER((6.2138818/5),1.07)/86400","v":0.032075692295881},0.01900462962962963,{"$f":"99.9%*(Q22*86400)*POWER((6.2138818/3.9),1.07)/86400","v":0.03125245698104591},{"$nulls":4},0.03050925925925926,{"$f":"99.8%*(W22)","v":0.03044824074074074},0.031053240740740742,{"$f":"98.7%*(Y22)","v":0.030649548611111112},0.052627314814814814,{"$f":"97.3%*(AA22*86400)*POWER((6.2138818/10),1.07)/86400","v":0.0307767281914499},8,0.030981505330398333,{"$f":"IF(COUNT(F22,H22,J22,L22:N22,P22,R22,T22,#REF!,X22)>5,5,COUNT(F22,H22,J22,L22:N22,P22,R22,T22,#REF!,X22))","v":5},{"$f":"IFERROR(IF(AC22>5,AVERAGE(SMALL((F22,H22,J22,L22,N22,P22,R22,T22,V22,X22,Z22,AB22),{1,2,3,4,5})),AD22),\"No race run\")","v":0.030571549021553242}]
[null,"Boyle","John","M",{"$nulls":22},0.05288194444444444,{"$f":"97.3%*(AA23*86400)*POWER((6.2138818/10),1.07)/86400","v":0.03092563692692646},1,0.03092563692692646,{"$f":"IF(COUNT(F23,H23,J23,L23:N23,P23,R23,T23,#REF!,X23)>5,5,COUNT(F23,H23,J23,L23:N23,P23,R23,T23,#REF!,X23))","v":0},{"$f":"IFERROR(IF(AC23>5,AVERAGE(SMALL((F23,H23,J23,L23,N23,P23,R23,T23,V23,X23,Z23,AB23),{1,2,3,4,5})),AD23),\"No race run\")","v":0.03092563692692646}]
[null,"Reilly","Jim","M",0.07825231481481482,{"$f":"98.2%*(E24*86400)*POWER((6.2138818/13.1094),1.07)/86400","v":0.03456952929612959},0.055,{"$f":"99.3%*(G24*86400)*POWER((6.2138818/10),1.07)/86400","v":0.03282542328355132},0.03209490740740741,{"$f":"98.7%*(I24)","v":0.031677673611111117},0.03986111111111111,{"$f":"98.1%*(K24*86400)*POWER((6.2138818/7.45645),1.07)/86400","v":0.03217417702538044},null,null,0.02546296296296296,{"$f":"98.4%*(O24*86400)*POWER((6.2138818/5),1.07)/86400","v":0.03161582573966766},{"$nulls":6},0.031655092592592596,{"$f":"99.8%*(W24)","v":0.03159178240740741},0.031203703703703702,{"$f":"98.7%*(Y24)","v":0.030798055555555554},null,null,7,0.0321789238455433,{"$f":"IF(COUNT(F24,H24,J24,L24:N24,P24,R24,T24,#REF!,X24)>5,5,COUNT(F24,H24,J24,L24:N24,P24,R24,T24,#REF!,X24))","v":5},{"$f":"IFERROR(IF(AC24>5,AVERAGE(SMALL((F24,H24,J24,L24,N24,P24,R24,T24,V24,X24,Z24,AB24),{1,2,3,4,5})),AD24),\"No race run\")","v":0.03157150286782444}]
[null,"Hookham","Peter","M",null,null,0.05310185185185185,{"$f":"99.3%*(G25*86400)*POWER((6.2138818/10),1.07)/86400","v":0.03169255934868129},{"$nulls":20},1,0.03169255934868129,{"$f":"IF(COUNT(F25,H25,J25,L25:N25,P25,R25,T25,#REF!,X25)>5,5,COUNT(F25,H25,J25,L25:N25,P25,R25,T25,#REF!,X25))","v":1},{"$f":"IFERROR(IF(AC25>5,AVERAGE(SMALL((F25,H25,J25,L25,N25,P25,R25,T25,V25,X25,Z25,AB25),{1,2,3,4,5})),AD25),\"No race run\")","v":0.03169255934868129}]
[null,"Pool","Richard","M",0.07549768518518518,{"$f":"98.2%*(E26*86400)*POWER((6.2138818/13.1094),1.07)/86400","v":0.03335261641749051},0.05408564814814815,{"$f":"99.3%*(G26*86400)*POWER((6.2138818/10),1.07)/86400","v":0.03227971443687612},0.03152777777777777,{"$f":"98.7%*(I26)","v":0.031117916666666662},{"$nulls":6},0.01934027777777778,{"$f":"99.9%*(Q26*86400)*POWER((6.2138818/3.9),1.07)/86400","v":0.03180441876694745},{"$nulls":10},4,0.032138666571995184,{"$f":"IF(COUNT(F26,H26,J26,L26:N26,P26,R26,T26,#REF!,X26)>5,5,COUNT(F26,H26,J26,L26:N26,P26,R26,T26,#REF!,X26))","v":4},{"$f":"IFERROR(IF(AC26>5,AVERAGE(SMALL((F26,H26,J26,L26,N26,P26,R26,T26,V26,X26,Z26,AB26),{1,2,3,4,5})),AD26),\"No race run\")","v":0.032138666571995184}]
[null,"Muncey","Laura","F",0.07476851851851851,{"$f":"98.2%*(E27*86400)*POWER((6.2138818/13.1094),1.07)/86400","v":0.033030492420203686},0.05445601851851852,{"$f":"99.3%*(G27*86400)*POWER((6.2138818/10),1.07)/86400","v":0.032500761058314176},null,null,0.0415162037037037,{"$f":"98.1%*(K27*86400)*POWER((6.2138818/7.45645),1.07)/86400","v":0.03351009668700337},null,null,0.025659722222222223,{"$f":"98.4%*(O27*86400)*POWER((6.2138818/5),1.07)/86400","v":0.03186012984765601},{"$nulls":4},0.07885416666666667,{"$f":"99.6%*(U27*86400)*POWER((6.2138818/13.1094),1.07)/86400","v":0.035332044585733975},null,null,0.035023148148148144,{"$f":"98.7%*(Y27)","v":0.03456784722222222},null,null,6,0.03346689530352224,{"$f":"IF(COUNT(F27,H27,J27,L27:N27,P27,R27,T27,#REF!,X27)>5,5,COUNT(F27,H27,J27,L27:N27,P27,R27,T27,#REF!,X27))","v":4},{"$f":"IFERROR(IF(AC27>5,AVERAGE(SMALL((F27,H27,J27,L27,N27,P27,R27,T27,V27,X27,Z27,AB27),{1,2,3,4,5})),AD27),\"No race run\")","v":0.033093865447079894}]
[null,"Woodrow","Andrew","M",{"$nulls":4},0.03399305555555556,{"$f":"98.7%*(I28)","v":0.03355114583333334},{"$nulls":18},1,0.03355114583333334,{"$f":"IF(COUNT(F28,H28,J28,L28:N28,P28,R28,T28,#REF!,X28)>5,5,COUNT(F28,H28,J28,L28:N28,P28,R28,T28,#REF!,X28))","v":1},{"$f":"IFERROR(IF(AC28>5,AVERAGE(SMALL((F28,H28,J28,L28,N28,P28,R28,T28,V28,X28,Z28,AB28),{1,2,3,4,5})),AD28),\"No race run\")","v":0.03355114583333334}]
[null,"Nisbet","Stewart","M",{"$nulls":10},0.027824074074074074,{"$f":"98.4%*(O29*86400)*POWER((6.2138818/5),1.07)/86400","v":0.034547475035527755},{"$nulls":8},0.03378472222222222,{"$f":"98.7%*(Y29)","v":0.033345520833333336},null,null,2,0.033946497934430546,{"$f":"IF(COUNT(F29,H29,J29,L29:N29,P29,R29,T29,#REF!,X29)>5,5,COUNT(F29,H29,J29,L29:N29,P29,R29,T29,#REF!,X29))","v":1},{"$f":"IFERROR(IF(AC29>5,AVERAGE(SMALL((F29,H29,J29,L29,N29,P29,R29,T29,V29,X29,Z29,AB29),{1,2,3,4,5})),AD29),\"No race run\")","v":0.033946497934430546}]
[null,"Blair","Gordon","M",{"$nulls":20},0.03450231481481481,{"$f":"98.7%*(Y30)","v":0.034053784722222216},null,null,1,0.034053784722222216,{"$f":"IF(COUNT(F30,H30,J30,L30:N30,P30,R30,T30,#REF!,X30)>5,5,COUNT(F30,H30,J30,L30:N30,P30,R30,T30,#REF!,X30))","v":0},{"$f":"IFERROR(IF(AC30>5,AVERAGE(SMALL((F30,H30,J30,L30,N30,P30,R30,T30,V30,X30,Z30,AB30),{1,2,3,4,5})),AD30),\"No race run\")","v":0.034053784722222216}]
[null,"McLeod","James","M",{"$nulls":12},0.02111111111111111,{"$f":"99.9%*(Q31*86400)*POWER((6.2138818/3.9),1.07)/86400","v":0.03471649301670385},{"$nulls":10},1,0.03471649301670385,{"$f":"IF(COUNT(F31,H31,J31,L31:N31,P31,R31,T31,#REF!,X31)>5,5,COUNT(F31,H31,J31,L31:N31,P31,R31,T31,#REF!,X31))","v":1},{"$f":"IFERROR(IF(AC31>5,AVERAGE(SMALL((F31,H31,J31,L31,N31,P31,R31,T31,V31,X31,Z31,AB31),{1,2,3,4,5})),AD31),\"No race run\")","v":0.03471649301670385}]
[null,"McGregor","Steph","F",{"$nulls":22},0.05966435185185185,{"$f":"97.3%*(AA32*86400)*POWER((6.2138818/10),1.07)/86400","v":0.034892024153711065},1,0.034892024153711065,{"$f":"IF(COUNT(F32,H32,J32,L32:N32,P32,R32,T32,#REF!,X32)>5,5,COUNT(F32,H32,J32,L32:N32,P32,R32,T32,#REF!,X32))","v":0},{"$f":"IFERROR(IF(AC32>5,AVERAGE(SMALL((F32,H32,J32,L32,N32,P32,R32,T32,V32,X32,Z32,AB32),{1,2,3,4,5})),AD32),\"No race run\")","v":0.034892024153711065}]
[null,"Baughan","Paul","M",0.07976851851851852,{"$f":"98.2%*(E33*86400)*POWER((6.2138818/13.1094),1.07)/86400","v":0.03523934268731328},{"$nulls":22},1,0.03523934268731328,{"$f":"IF(COUNT(F33,H33,J33,L33:N33,P33,R33,T33,#REF!,X33)>5,5,COUNT(F33,H33,J33,L33:N33,P33,R33,T33,#REF!,X33))","v":1},{"$f":"IFERROR(IF(AC33>5,AVERAGE(SMALL((F33,H33,J33,L33,N33,P33,R33,T33,V33,X33,Z33,AB33),{1,2,3,4,5})),AD33),\"No race run\")","v":0.03523934268731328}]
[null,"Atkinson","Michael","M",{"$nulls":4},0.03636574074074074,{"$f":"98.7%*(I34)","v":0.03589298611111111},{"$nulls":6},0.021215277777777777,{"$f":"99.9%*(Q34*86400)*POWER((6.2138818/3.9),1.07)/86400","v":0.034887791501983643},{"$nulls":10},2,0.03539038880654738,{"$f":"IF(COUNT(F34,H34,J34,L34:N34,P34,R34,T34,#REF!,X34)>5,5,COUNT(F34,H34,J34,L34:N34,P34,R34,T34,#REF!,X34))","v":2},{"$f":"IFERROR(IF(AC34>5,AVERAGE(SMALL((F34,H34,J34,L34,N34,P34,R34,T34,V34,X34,Z34,AB34),{1,2,3,4,5})),AD34),\"No race run\")","v":0.03539038880654738}]
[null,"Dobson","Stuart","M",{"$nulls":6},0.044085648148148145,{"$f":"98.1%*(K35*86400)*POWER((6.2138818/7.45645),1.07)/86400","v":0.035584041895956466},0.08737268518518519,{"$f":"95.2%*(M35*86400)*POWER((6.2138818/13.1094),1.07)/86400","v":0.03741945140874314},0.028784722222222225,{"$f":"98.4%*(O35*86400)*POWER((6.2138818/5),1.07)/86400","v":0.03574025391570613},0.02181712962962963,{"$f":"99.9%*(Q35*86400)*POWER((6.2138818/3.9),1.07)/86400","v":0.0358775160836002},{"$nulls":4},0.03508101851851852,{"$f":"99.8%*(W35)","v":0.03501085648148148},0.0359837962962963,{"$f":"98.7%*(Y35)","v":0.03551600694444445},0.06190972222222222,{"$f":"97.3%*(AA35*86400)*POWER((6.2138818/10),1.07)/86400","v":0.036205128457458886},7,0.035907607883912965,{"$f":"IF(COUNT(F35,H35,J35,L35:N35,P35,R35,T35,#REF!,X35)>5,5,COUNT(F35,H35,J35,L35:N35,P35,R35,T35,#REF!,X35))","v":5},{"$f":"IFERROR(IF(AC35>5,AVERAGE(SMALL((F35,H35,J35,L35,N35,P35,R35,T35,V35,X35,Z35,AB35),{1,2,3,4,5})),AD35),\"No race run\")","v":0.03554573506423774}]
[null,"Findlay","Valerie","F",null,null,0.06035879629629629,{"$f":"99.3%*(G36*86400)*POWER((6.2138818/10),1.07)/86400","v":0.03602369158748319},0.03653935185185185,{"$f":"98.7%*(I36)","v":0.03606434027777777},{"$nulls":4},0.02943287037037037,{"$f":"98.4%*(O36*86400)*POWER((6.2138818/5),1.07)/86400","v":0.03654502038907949},0.021377314814814818,{"$f":"99.9%*(Q36*86400)*POWER((6.2138818/3.9),1.07)/86400","v":0.03515425581241888},null,null,0.08094907407407408,{"$f":"99.6%*(U36*86400)*POWER((6.2138818/13.1094),1.07)/86400","v":0.03627070597866189},{"$nulls":4},0.06310185185185185,{"$f":"97.3%*(AA36*86400)*POWER((6.2138818/10),1.07)/86400","v":0.036902292082644575},6,0.03616005102134429,{"$f":"IF(COUNT(F36,H36,J36,L36:N36,P36,R36,T36,#REF!,X36)>5,5,COUNT(F36,H36,J36,L36:N36,P36,R36,T36,#REF!,X36))","v":4},{"$f":"IFERROR(IF(AC36>5,AVERAGE(SMALL((F36,H36,J36,L36,N36,P36,R36,T36,V36,X36,Z36,AB36),{1,2,3,4,5})),AD36),\"No race run\")","v":0.03601160280908424}]
[null,"Lopez","Gill ","F",null,null,0.059166666666666666,{"$f":"99.3%*(G37*86400)*POWER((6.2138818/10),1.07)/86400","v":0.03531219777472946},{"$nulls":6},0.029988425925925922,{"$f":"98.4%*(O37*86400)*POWER((6.2138818/5),1.07)/86400","v":0.0372348202233995},{"$nulls":12},{"$f":"COUNT(F37,H37,J37,L37,N37,P37,R37,T37,V37,X37,Z37,AB37)","v":2},{"$f":"IFERROR(AVERAGE(F37,H37,J37,L37,N37,P37,R37,T37,V37,X37,Z37,AB37),\"No race run\")","v":0.03627350899906448},{"$f":"IF(COUNT(F37,H37,J37,L37:N37,P37,R37,T37,#REF!,X37)>5,5,COUNT(F37,H37,J37,L37:N37,P37,R37,T37,#REF!,X37))","v":2},{"$f":"IFERROR(IF(AC37>5,AVERAGE(SMALL((F37,H37,J37,L37,N37,P37,R37,T37,V37,X37,Z37,AB37),{1,2,3,4,5})),AD37),\"No race run\")","v":0.03627350899906448}]
[null,"Gregory","Alison","F",{"$nulls":16},0.08106481481481481,{"$f":"99.6%*(U38*86400)*POWER((6.2138818/13.1094),1.07)/86400","v":0.036322565724127516},{"$nulls":6},1,0.036322565724127516,{"$f":"IF(COUNT(F38,H38,J38,L38:N38,P38,R38,T38,#REF!,X38)>5,5,COUNT(F38,H38,J38,L38:N38,P38,R38,T38,#REF!,X38))","v":0},{"$f":"IFERROR(IF(AC38>5,AVERAGE(SMALL((F38,H38,J38,L38,N38,P38,R38,T38,V38,X38,Z38,AB38),{1,2,3,4,5})),AD38),\"No race run\")","v":0.036322565724127516}]
[null,"Wilson","Anne","F",{"$nulls":10},0.029988425925925922,{"$f":"98.4%*(O39*86400)*POWER((6.2138818/5),1.07)/86400","v":0.0372348202233995},0.02224537037037037,{"$f":"99.9%*(Q39*86400)*POWER((6.2138818/3.9),1.07)/86400","v":0.036581743189750444},{"$nulls":10},2,0.03690828170657497,{"$f":"IF(COUNT(F39,H39,J39,L39:N39,P39,R39,T39,#REF!,X39)>5,5,COUNT(F39,H39,J39,L39:N39,P39,R39,T39,#REF!,X39))","v":2},{"$f":"IFERROR(IF(AC39>5,AVERAGE(SMALL((F39,H39,J39,L39,N39,P39,R39,T39,V39,X39,Z39,AB39),{1,2,3,4,5})),AD39),\"No race run\")","v":0.03690828170657497}]
[null,"Verdot","Leigh","F",{"$nulls":8},0.10065972222222223,{"$f":"95.2%*(M40*86400)*POWER((6.2138818/13.1094),1.07)/86400","v":0.043109944218020814},null,null,0.021805555555555554,{"$f":"99.9%*(Q40*86400)*POWER((6.2138818/3.9),1.07)/86400","v":0.035858482918569114},0.05042824074074074,{"$f":"97.6%*(S40*86400)*POWER((6.2138818/8),1.07)/86400","v":0.037559149210748655},null,null,0.03684027777777778,{"$f":"99.8%*(W40)","v":0.036766597222222225},0.036909722222222226,{"$f":"98.7%*(Y40)","v":0.03642989583333334},0.06557870370370371,{"$f":"97.3%*(AA40*86400)*POWER((6.2138818/10),1.07)/86400","v":0.038350767964098344},6,0.03801247289449875,{"$f":"IF(COUNT(F40,H40,J40,L40:N40,P40,R40,T40,#REF!,X40)>5,5,COUNT(F40,H40,J40,L40:N40,P40,R40,T40,#REF!,X40))","v":5},{"$f":"IFERROR(IF(AC40>5,AVERAGE(SMALL((F40,H40,J40,L40,N40,P40,R40,T40,V40,X40,Z40,AB40),{1,2,3,4,5})),AD40),\"No race run\")","v":0.03699297862979433}]
[null,"Blair","Sheena","F",0.08559027777777778,{"$f":"98.2%*(E41*86400)*POWER((6.2138818/13.1094),1.07)/86400","v":0.037811221586285804},0.060787037037037035,{"$f":"99.3%*(G41*86400)*POWER((6.2138818/10),1.07)/86400","v":0.03627927674352095},{"$nulls":20},2,0.03704524916490338,{"$f":"IF(COUNT(F41,H41,J41,L41:N41,P41,R41,T41,#REF!,X41)>5,5,COUNT(F41,H41,J41,L41:N41,P41,R41,T41,#REF!,X41))","v":2},{"$f":"IFERROR(IF(AC41>5,AVERAGE(SMALL((F41,H41,J41,L41,N41,P41,R41,T41,V41,X41,Z41,AB41),{1,2,3,4,5})),AD41),\"No race run\")","v":0.03704524916490338}]
[null,"McKay","Duncan","M",null,null,0.06209490740740741,{"$f":"99.3%*(G42*86400)*POWER((6.2138818/10),1.07)/86400","v":0.037059847625474075},{"$nulls":20},1,0.037059847625474075,{"$f":"IF(COUNT(F42,H42,J42,L42:N42,P42,R42,T42,#REF!,X42)>5,5,COUNT(F42,H42,J42,L42:N42,P42,R42,T42,#REF!,X42))","v":1},{"$f":"IFERROR(IF(AC42>5,AVERAGE(SMALL((F42,H42,J42,L42,N42,P42,R42,T42,V42,X42,Z42,AB42),{1,2,3,4,5})),AD42),\"No race run\")","v":0.037059847625474075}]
[null,"Beveridge","Lynn","F",{"$nulls":10},0.02956018518518519,{"$f":"98.4%*(O43*86400)*POWER((6.2138818/5),1.07)/86400","v":0.03670309951777783},{"$nulls":8},0.03837962962962963,{"$f":"98.7%*(Y43)","v":0.037880694444444446},null,null,2,0.03729189698111114,{"$f":"IF(COUNT(F43,H43,J43,L43:N43,P43,R43,T43,#REF!,X43)>5,5,COUNT(F43,H43,J43,L43:N43,P43,R43,T43,#REF!,X43))","v":1},{"$f":"IFERROR(IF(AC43>5,AVERAGE(SMALL((F43,H43,J43,L43,N43,P43,R43,T43,V43,X43,Z43,AB43),{1,2,3,4,5})),AD43),\"No race run\")","v":0.03729189698111114}]
[null,"Bilton","Geoff","M",null,null,0.06244212962962963,{"$f":"99.3%*(G44*86400)*POWER((6.2138818/10),1.07)/86400","v":0.03726707883307226},0.03678240740740741,{"$f":"98.7%*(I44)","v":0.03630423611111111},{"$nulls":16},0.06621527777777779,{"$f":"97.3%*(AA44*86400)*POWER((6.2138818/10),1.07)/86400","v":0.03872303980278973},3,0.03743145158232437,{"$f":"IF(COUNT(F44,H44,J44,L44:N44,P44,R44,T44,#REF!,X44)>5,5,COUNT(F44,H44,J44,L44:N44,P44,R44,T44,#REF!,X44))","v":2},{"$f":"IFERROR(IF(AC44>5,AVERAGE(SMALL((F44,H44,J44,L44,N44,P44,R44,T44,V44,X44,Z44,AB44),{1,2,3,4,5})),AD44),\"No race run\")","v":0.03743145158232437}]
[null,"Smith","Alison","F",null,null,0.06282407407407407,{"$f":"99.3%*(G45*86400)*POWER((6.2138818/10),1.07)/86400","v":0.037495033161430255},0.038657407407407404,{"$f":"98.7%*(I45)","v":0.038154861111111105},{"$nulls":6},0.02297453703703704,{"$f":"99.9%*(Q45*86400)*POWER((6.2138818/3.9),1.07)/86400","v":0.03778083258670897},null,null,0.08395833333333334,{"$f":"99.6%*(U45*86400)*POWER((6.2138818/13.1094),1.07)/86400","v":0.03761905936076829},null,null,0.03827546296296296,{"$f":"98.7%*(Y45)","v":0.037777881944444446},0.06626157407407407,{"$f":"97.3%*(AA45*86400)*POWER((6.2138818/10),1.07)/86400","v":0.03875011411833092},6,0.03792963038046567,{"$f":"IF(COUNT(F45,H45,J45,L45:N45,P45,R45,T45,#REF!,X45)>5,5,COUNT(F45,H45,J45,L45:N45,P45,R45,T45,#REF!,X45))","v":3},{"$f":"IFERROR(IF(AC45>5,AVERAGE(SMALL((F45,H45,J45,L45,N45,P45,R45,T45,V45,X45,Z45,AB45),{1,2,3,4,5})),AD45),\"No race run\")","v":0.03776553363289261}]
[null,"Aird","Andrew","M",{"$nulls":4},0.03836805555555555,{"$f":"98.7%*(I46)","v":0.03786927083333333},{"$nulls":4},0.03173611111111111,{"$f":"98.4%*(O46*86400)*POWER((6.2138818/5),1.07)/86400","v":0.03940481553553124},0.02259259259259259,{"$f":"99.9%*(Q46*86400)*POWER((6.2138818/3.9),1.07)/86400","v":0.03715273814068307},{"$nulls":6},0.0390162037037037,{"$f":"98.7%*(Y46)","v":0.03850899305555555},null,null,4,0.0382339543912758,{"$f":"IF(COUNT(F46,H46,J46,L46:N46,P46,R46,T46,#REF!,X46)>5,5,COUNT(F46,H46,J46,L46:N46,P46,R46,T46,#REF!,X46))","v":3},{"$f":"IFERROR(IF(AC46>5,AVERAGE(SMALL((F46,H46,J46,L46,N46,P46,R46,T46,V46,X46,Z46,AB46),{1,2,3,4,5})),AD46),\"No race run\")","v":0.0382339543912758}]
[null,"Donnachie","Gordon","M",{"$nulls":18},0.03841435185185185,{"$f":"99.8%*(W47)","v":0.03833752314814815},{"$nulls":4},1,0.03833752314814815,{"$f":"IF(COUNT(F47,H47,J47,L47:N47,P47,R47,T47,#REF!,X47)>5,5,COUNT(F47,H47,J47,L47:N47,P47,R47,T47,#REF!,X47))","v":1},{"$f":"IFERROR(IF(AC47>5,AVERAGE(SMALL((F47,H47,J47,L47,N47,P47,R47,T47,V47,X47,Z47,AB47),{1,2,3,4,5})),AD47),\"No race run\")","v":0.03833752314814815}]
[null,"Mitchell","Karen","F",0.0897337962962963,{"$f":"98.2%*(E48*86400)*POWER((6.2138818/13.1094),1.07)/86400","v":0.03964170398356644},0.06440972222222223,{"$f":"99.3%*(G48*86400)*POWER((6.2138818/10),1.07)/86400","v":0.038441389009461945},0.03806712962962963,{"$f":"98.7%*(I48)","v":0.037572256944444445},{"$nulls":6},0.023171296296296297,{"$f":"99.9%*(Q48*86400)*POWER((6.2138818/3.9),1.07)/86400","v":0.038104396392237457},{"$nulls":10},4,0.038439936582427565,{"$f":"IF(COUNT(F48,H48,J48,L48:N48,P48,R48,T48,#REF!,X48)>5,5,COUNT(F48,H48,J48,L48:N48,P48,R48,T48,#REF!,X48))","v":4},{"$f":"IFERROR(IF(AC48>5,AVERAGE(SMALL((F48,H48,J48,L48,N48,P48,R48,T48,V48,X48,Z48,AB48),{1,2,3,4,5})),AD48),\"No race run\")","v":0.038439936582427565}]
[null,"Macintyre","Anne","F",null,null,0.06582175925925926,{"$f":"99.3%*(G49*86400)*POWER((6.2138818/10),1.07)/86400","v":0.03928412925369452},0.0415162037037037,{"$f":"98.7%*(I49)","v":0.04097649305555555},{"$nulls":10},0.08715277777777779,{"$f":"99.6%*(U49*86400)*POWER((6.2138818/13.1094),1.07)/86400","v":0.03905038833561968},{"$nulls":4},0.06747685185185186,{"$f":"97.3%*(AA49*86400)*POWER((6.2138818/10),1.07)/86400","v":0.039460814901287215},4,0.039692956386539247,{"$f":"IF(COUNT(F49,H49,J49,L49:N49,P49,R49,T49,#REF!,X49)>5,5,COUNT(F49,H49,J49,L49:N49,P49,R49,T49,#REF!,X49))","v":2},{"$f":"IFERROR(IF(AC49>5,AVERAGE(SMALL((F49,H49,J49,L49,N49,P49,R49,T49,V49,X49,Z49,AB49),{1,2,3,4,5})),AD49),\"No race run\")","v":0.039692956386539247}]
[null,"Rennie","Amanda","F",{"$nulls":4},0.03993055555555556,{"$f":"98.7%*(I50)","v":0.03941145833333334},null,null,0.10403935185185186,{"$f":"95.2%*(M50*86400)*POWER((6.2138818/13.1094),1.07)/86400","v":0.04455735179668725},0.031099537037037037,{"$f":"98.4%*(O50*86400)*POWER((6.2138818/5),1.07)/86400","v":0.03861441989203955},{"$nulls":12},3,0.040861076674020044,{"$f":"IF(COUNT(F50,H50,J50,L50:N50,P50,R50,T50,#REF!,X50)>5,5,COUNT(F50,H50,J50,L50:N50,P50,R50,T50,#REF!,X50))","v":4},{"$f":"IFERROR(IF(AC50>5,AVERAGE(SMALL((F50,H50,J50,L50,N50,P50,R50,T50,V50,X50,Z50,AB50),{1,2,3,4,5})),AD50),\"No race run\")","v":0.040861076674020044}]
[null,"Houston","Alison ","F",{"$nulls":10},0.03295138888888889,{"$f":"98.4%*(O51*86400)*POWER((6.2138818/5),1.07)/86400","v":0.04091375267310629},{"$nulls":12},1,0.04091375267310629,{"$f":"IF(COUNT(F51,H51,J51,L51:N51,P51,R51,T51,#REF!,X51)>5,5,COUNT(F51,H51,J51,L51:N51,P51,R51,T51,#REF!,X51))","v":1},{"$f":"IFERROR(IF(AC51>5,AVERAGE(SMALL((F51,H51,J51,L51,N51,P51,R51,T51,V51,X51,Z51,AB51),{1,2,3,4,5})),AD51),\"No race run\")","v":0.04091375267310629}]
[null,"Turnbull","Wendy","F",0.0939236111111111,{"$f":"98.2%*(E52*86400)*POWER((6.2138818/13.1094),1.07)/86400","v":0.041492638698135124},0.06813657407407407,{"$f":"99.3%*(G52*86400)*POWER((6.2138818/10),1.07)/86400","v":0.04066567063768237},{"$nulls":20},2,0.04107915466790875,{"$f":"IF(COUNT(F52,H52,J52,L52:N52,P52,R52,T52,#REF!,X52)>5,5,COUNT(F52,H52,J52,L52:N52,P52,R52,T52,#REF!,X52))","v":2},{"$f":"IFERROR(IF(AC52>5,AVERAGE(SMALL((F52,H52,J52,L52,N52,P52,R52,T52,V52,X52,Z52,AB52),{1,2,3,4,5})),AD52),\"No race run\")","v":0.04107915466790875}]
[null,"Bell","Dianne","F",{"$nulls":4},0.03988425925925926,{"$f":"98.7%*(I53)","v":0.039365763888888884},{"$nulls":6},0.026041666666666668,{"$f":"99.9%*(Q53*86400)*POWER((6.2138818/3.9),1.07)/86400","v":0.042824621319947194},{"$nulls":10},2,0.04109519260441804,{"$f":"IF(COUNT(F53,H53,J53,L53:N53,P53,R53,T53,#REF!,X53)>5,5,COUNT(F53,H53,J53,L53:N53,P53,R53,T53,#REF!,X53))","v":2},{"$f":"IFERROR(IF(AC53>5,AVERAGE(SMALL((F53,H53,J53,L53,N53,P53,R53,T53,V53,X53,Z53,AB53),{1,2,3,4,5})),AD53),\"No race run\")","v":0.04109519260441804}]
[null,"McLean","Susan","F",{"$nulls":10},0.03417824074074074,{"$f":"98.4%*(O54*86400)*POWER((6.2138818/5),1.07)/86400","v":0.042437060640563004},0.02440972222222222,{"$f":"99.9%*(Q54*86400)*POWER((6.2138818/3.9),1.07)/86400","v":0.04014094505056383},{"$nulls":10},2,0.041289002845563416,{"$f":"IF(COUNT(F54,H54,J54,L54:N54,P54,R54,T54,#REF!,X54)>5,5,COUNT(F54,H54,J54,L54:N54,P54,R54,T54,#REF!,X54))","v":2},{"$f":"IFERROR(IF(AC54>5,AVERAGE(SMALL((F54,H54,J54,L54,N54,P54,R54,T54,V54,X54,Z54,AB54),{1,2,3,4,5})),AD54),\"No race run\")","v":0.041289002845563416}]
[null,"Zabek","Lynne","F",null,null,0.07175925925925926,{"$f":"99.3%*(G55*86400)*POWER((6.2138818/10),1.07)/86400","v":0.04282778290362336},0.04069444444444444,{"$f":"98.7%*(I55)","v":0.04016541666666666},{"$nulls":18},2,0.041496599785145014,{"$f":"IF(COUNT(F55,H55,J55,L55:N55,P55,R55,T55,#REF!,X55)>5,5,COUNT(F55,H55,J55,L55:N55,P55,R55,T55,#REF!,X55))","v":2},{"$f":"IFERROR(IF(AC55>5,AVERAGE(SMALL((F55,H55,J55,L55,N55,P55,R55,T55,V55,X55,Z55,AB55),{1,2,3,4,5})),AD55),\"No race run\")","v":0.041496599785145014}]
[null,"Gillespie","Lisa","F",null,null,0.07701388888888888,{"$f":"99.3%*(G56*86400)*POWER((6.2138818/10),1.07)/86400","v":0.045963881845275764},{"$nulls":8},0.024120370370370372,{"$f":"99.9%*(Q56*86400)*POWER((6.2138818/3.9),1.07)/86400","v":0.03966511592478664},{"$nulls":8},0.06809027777777778,{"$f":"97.3%*(AA56*86400)*POWER((6.2138818/10),1.07)/86400","v":0.03981954958220799},3,0.0418161824507568,{"$f":"IF(COUNT(F56,H56,J56,L56:N56,P56,R56,T56,#REF!,X56)>5,5,COUNT(F56,H56,J56,L56:N56,P56,R56,T56,#REF!,X56))","v":2},{"$f":"IFERROR(IF(AC56>5,AVERAGE(SMALL((F56,H56,J56,L56,N56,P56,R56,T56,V56,X56,Z56,AB56),{1,2,3,4,5})),AD56),\"No race run\")","v":0.0418161824507568}]
[null,"Marsh","Karen","F",{"$nulls":12},0.025983796296296297,{"$f":"99.9%*(Q57*86400)*POWER((6.2138818/3.9),1.07)/86400","v":0.04272945549479175},{"$nulls":8},0.07038194444444444,{"$f":"97.3%*(AA57*86400)*POWER((6.2138818/10),1.07)/86400","v":0.041159728201497},2,0.04194459184814438,{"$f":"IF(COUNT(F57,H57,J57,L57:N57,P57,R57,T57,#REF!,X57)>5,5,COUNT(F57,H57,J57,L57:N57,P57,R57,T57,#REF!,X57))","v":1},{"$f":"IFERROR(IF(AC57>5,AVERAGE(SMALL((F57,H57,J57,L57,N57,P57,R57,T57,V57,X57,Z57,AB57),{1,2,3,4,5})),AD57),\"No race run\")","v":0.04194459184814438}]
[null,"Grieve","Wendy","F",{"$nulls":8},0.0992013888888889,{"$f":"95.2%*(M58*86400)*POWER((6.2138818/13.1094),1.07)/86400","v":0.042485377934075697},{"$nulls":14},1,0.042485377934075697,{"$f":"IF(COUNT(F58,H58,J58,L58:N58,P58,R58,T58,#REF!,X58)>5,5,COUNT(F58,H58,J58,L58:N58,P58,R58,T58,#REF!,X58))","v":2},{"$f":"IFERROR(IF(AC58>5,AVERAGE(SMALL((F58,H58,J58,L58,N58,P58,R58,T58,V58,X58,Z58,AB58),{1,2,3,4,5})),AD58),\"No race run\")","v":0.042485377934075697}]
[null,"Ward","Linda","F",{"$nulls":4},0.04370370370370371,{"$f":"98.7%*(I59)","v":0.04313555555555556},{"$nulls":18},1,0.04313555555555556,{"$f":"IF(COUNT(F59,H59,J59,L59:N59,P59,R59,T59,#REF!,X59)>5,5,COUNT(F59,H59,J59,L59:N59,P59,R59,T59,#REF!,X59))","v":1},{"$f":"IFERROR(IF(AC59>5,AVERAGE(SMALL((F59,H59,J59,L59,N59,P59,R59,T59,V59,X59,Z59,AB59),{1,2,3,4,5})),AD59),\"No race run\")","v":0.04313555555555556}]
[null,"Thomson","Susan","F",0.10270833333333333,{"$f":"98.2%*(E60*86400)*POWER((6.2138818/13.1094),1.07)/86400","v":0.045373465903542964},0.07018518518518518,{"$f":"99.3%*(G60*86400)*POWER((6.2138818/10),1.07)/86400","v":0.041888334762511616},{"$nulls":20},2,0.04363090033302729,{"$f":"IF(COUNT(F60,H60,J60,L60:N60,P60,R60,T60,#REF!,X60)>5,5,COUNT(F60,H60,J60,L60:N60,P60,R60,T60,#REF!,X60))","v":2},{"$f":"IFERROR(IF(AC60>5,AVERAGE(SMALL((F60,H60,J60,L60,N60,P60,R60,T60,V60,X60,Z60,AB60),{1,2,3,4,5})),AD60),\"No race run\")","v":0.04363090033302729}]
[null,"Eaton","Sarah","F",{"$nulls":4},0.04407407407407407,{"$f":"98.7%*(I61)","v":0.04350111111111111},{"$nulls":6},0.025868055555555557,{"$f":"99.9%*(Q61*86400)*POWER((6.2138818/3.9),1.07)/86400","v":0.04253912384448088},{"$nulls":4},0.044259259259259255,{"$f":"99.8%*(W61)","v":0.04417074074074074},null,null,0.07668981481481481,{"$f":"97.3%*(AA61*86400)*POWER((6.2138818/10),1.07)/86400","v":0.04484860369398439},4,0.043764894847579276,{"$f":"IF(COUNT(F61,H61,J61,L61:N61,P61,R61,T61,#REF!,X61)>5,5,COUNT(F61,H61,J61,L61:N61,P61,R61,T61,#REF!,X61))","v":3},{"$f":"IFERROR(IF(AC61>5,AVERAGE(SMALL((F61,H61,J61,L61,N61,P61,R61,T61,V61,X61,Z61,AB61),{1,2,3,4,5})),AD61),\"No race run\")","v":0.043764894847579276}]
[null,"Lopez","Hannah","F",null,null,0.0734837962962963,{"$f":"99.3%*(G62*86400)*POWER((6.2138818/10),1.07)/86400","v":0.0438570312346943},{"$nulls":8},0.026921296296296294,{"$f":"99.9%*(Q62*86400)*POWER((6.2138818/3.9),1.07)/86400","v":0.04427114186230985},{"$nulls":4},0.04398148148148148,{"$f":"99.8%*(W62)","v":0.04389351851851852},0.043946759259259255,{"$f":"98.7%*(Y62)","v":0.04337545138888888},0.07902777777777777,{"$f":"97.3%*(AA62*86400)*POWER((6.2138818/10),1.07)/86400","v":0.04621585662881458},5,0.04432259992664523,{"$f":"IF(COUNT(F62,H62,J62,L62:N62,P62,R62,T62,#REF!,X62)>5,5,COUNT(F62,H62,J62,L62:N62,P62,R62,T62,#REF!,X62))","v":3},{"$f":"IFERROR(IF(AC62>5,AVERAGE(SMALL((F62,H62,J62,L62,N62,P62,R62,T62,V62,X62,Z62,AB62),{1,2,3,4,5})),AD62),\"No race run\")","v":0.04432259992664523}]
[null,"Nouillan","Bill","M",0.12167824074074074,{"$f":"98.2%*(E63*86400)*POWER((6.2138818/13.1094),1.07)/86400","v":0.05375380291232219},{"$nulls":22},1,0.05375380291232219,{"$f":"IF(COUNT(F63,H63,J63,L63:N63,P63,R63,T63,#REF!,X63)>5,5,COUNT(F63,H63,J63,L63:N63,P63,R63,T63,#REF!,X63))","v":1},{"$f":"IFERROR(IF(AC63>5,AVERAGE(SMALL((F63,H63,J63,L63,N63,P63,R63,T63,V63,X63,Z63,AB63),{1,2,3,4,5})),AD63),\"No race run\")","v":0.05375380291232219}]
[{"$nulls":28},{"$f":"COUNT(F64,H64,J64,L64,N64,P64,R64,T64,V64,X64,Z64,AB64)","v":0},{"$f":"IFERROR(AVERAGE(F64,H64,J64,L64,N64,P64,R64,T64,V64,X64,Z64,AB64),\"No race run\")","v":"No race run"},{"$f":"IF(COUNT(F64,H64,J64,L64:N64,P64,R64,T64,#REF!,X64)>5,5,COUNT(F64,H64,J64,L64:N64,P64,R64,T64,#REF!,X64))","v":0},{"$f":"IFERROR(IF(AC64>5,AVERAGE(SMALL((F64,H64,J64,L64,N64,P64,R64,T64,V64,X64,Z64,AB64),{1,2,3,4,5})),AD64),\"No race run\")","v":"No race run"}]
[{"$nulls":28},0,"No race run",{"$f":"IF(COUNT(F65,H65,J65,L65:N65,P65,R65,T65,#REF!,X65)>5,5,COUNT(F65,H65,J65,L65:N65,P65,R65,T65,#REF!,X65))","v":0},{"$f":"IFERROR(IF(AC65>5,AVERAGE(SMALL((F65,H65,J65,L65,N65,P65,R65,T65,V65,X65,Z65,AB65),{1,2,3,4,5})),AD65),\"No race run\")","v":"No race run"}]
[{"$nulls":28},0,"No race run",{"$f":"IF(COUNT(F66,H66,J66,L66:N66,P66,R66,T66,#REF!,X66)>5,5,COUNT(F66,H66,J66,L66:N66,P66,R66,T66,#REF!,X66))","v":0},{"$f":"IFERROR(IF(AC66>5,AVERAGE(SMALL((F66,H66,J66,L66,N66,P66,R66,T66,V66,X66,Z66,AB66),{1,2,3,4,5})),AD66),\"No race run\")","v":"No race run"}]
[{"$nulls":28},0,"No race run",{"$f":"IF(COUNT(F67,H67,J67,L67:N67,P67,R67,T67,#REF!,X67)>5,5,COUNT(F67,H67,J67,L67:N67,P67,R67,T67,#REF!,X67))","v":0},{"$f":"IFERROR(IF(AC67>5,AVERAGE(SMALL((F67,H67,J67,L67,N67,P67,R67,T67,V67,X67,Z67,AB67),{1,2,3,4,5})),AD67),\"No race run\")","v":"No race run"}]
[{"$nulls":28},0,"No race run",{"$f":"IF(COUNT(F68,H68,J68,L68:N68,P68,R68,T68,#REF!,X68)>5,5,COUNT(F68,H68,J68,L68:N68,P68,R68,T68,#REF!,X68))","v":0},{"$f":"IFERROR(IF(AC68>5,AVERAGE(SMALL((F68,H68,J68,L68,N68,P68,R68,T68,V68,X68,Z68,AB68),{1,2,3,4,5})),AD68),\"No race run\")","v":"No race run"}]
[{"$nulls":28},0,"No race run",{"$f":"IF(COUNT(F69,H69,J69,L69:N69,P69,R69,T69,#REF!,X69)>5,5,COUNT(F69,H69,J69,L69:N69,P69,R69,T69,#REF!,X69))","v":0},{"$f":"IFERROR(IF(AC69>5,AVERAGE(SMALL((F69,H69,J69,L69,N69,P69,R69,T69,V69,X69,Z69,AB69),{1,2,3,4,5})),AD69),\"No race run\")","v":"No race run"}]
[{"$nulls":28},{"$f":"COUNT(F70,H70,J70,L70,N70,P70,R70,T70,V70,X70,Z70,AB70)","v":0},{"$f":"IFERROR(AVERAGE(F70,H70,J70,L70,N70,P70,R70,T70,V70,X70,Z70,AB70),\"No race run\")","v":"No race run"},{"$f":"IF(COUNT(F70,H70,J70,L70:N70,P70,R70,T70,#REF!,X70)>5,5,COUNT(F70,H70,J70,L70:N70,P70,R70,T70,#REF!,X70))","v":0},{"$f":"IFERROR(IF(AC70>5,AVERAGE(SMALL((F70,H70,J70,L70,N70,P70,R70,T70,V70,X70,Z70,AB70),{1,2,3,4,5})),AD70),\"No race run\")","v":"No race run"}]
[{"$nulls":28},0,{"$f":"IFERROR(AVERAGE(F71,H71,J71,L71,N71, P71,R71,T71,V71,X71,Z71),\"No race run\")","v":"No race run"},{"$f":"IF(COUNT(F71,H71,J71,L71:N71,P71,R71,T71,#REF!,X71)>5,5,COUNT(F71,H71,J71,L71:N71,P71,R71,T71,#REF!,X71))","v":0},{"$f":"IFERROR(IF(AC71>5,AVERAGE(SMALL((F71,H71,J71,L71,N71,P71,R71,T71,V71,X71,Z71,AB71),{1,2,3,4,5})),AD71),\"No race run\")","v":"No race run"}]
[{"$nulls":28},0,"No race run",{"$f":"IF(COUNT(F72,H72,J72,L72:N72,P72,R72,T72,#REF!,X72)>5,5,COUNT(F72,H72,J72,L72:N72,P72,R72,T72,#REF!,X72))","v":0},{"$f":"IFERROR(IF(AC72>5,AVERAGE(SMALL((F72,H72,J72,L72,N72,P72,R72,T72,V72,X72,Z72,AB72),{1,2,3,4,5})),AD72),\"No race run\")","v":"No race run"}]
[{"$nulls":28},0,"No race run",{"$f":"IF(COUNT(F73,H73,J73,L73:N73,P73,R73,T73,#REF!,X73)>5,5,COUNT(F73,H73,J73,L73:N73,P73,R73,T73,#REF!,X73))","v":0},{"$f":"IFERROR(IF(AC73>5,AVERAGE(SMALL((F73,H73,J73,L73,N73,P73,R73,T73,V73,X73,Z73,AB73),{1,2,3,4,5})),AD73),\"No race run\")","v":"No race run"}]
[{"$nulls":28},0,"No race run",{"$f":"IF(COUNT(F74,H74,J74,L74:N74,P74,R74,T74,#REF!,X74)>5,5,COUNT(F74,H74,J74,L74:N74,P74,R74,T74,#REF!,X74))","v":0},{"$f":"IFERROR(IF(AC74>5,AVERAGE(SMALL((F74,H74,J74,L74,N74,P74,R74,T74,V74,X74,Z74,AB74),{1,2,3,4,5})),AD74),\"No race run\")","v":"No race run"}]
[{"$nulls":28},0,"No race run",{"$f":"IF(COUNT(F75,H75,J75,L75:N75,P75,R75,T75,#REF!,X75)>5,5,COUNT(F75,H75,J75,L75:N75,P75,R75,T75,#REF!,X75))","v":0},{"$f":"IFERROR(IF(AC75>5,AVERAGE(SMALL((F75,H75,J75,L75,N75,P75,R75,T75,V75,X75,Z75,AB75),{1,2,3,4,5})),AD75),\"No race run\")","v":"No race run"}]
[{"$nulls":28},0,"No race run",{"$f":"IF(COUNT(F76,H76,J76,L76:N76,P76,R76,T76,#REF!,X76)>5,5,COUNT(F76,H76,J76,L76:N76,P76,R76,T76,#REF!,X76))","v":0},{"$f":"IFERROR(IF(AC76>5,AVERAGE(SMALL((F76,H76,J76,L76,N76,P76,R76,T76,V76,X76,Z76,AB76),{1,2,3,4,5})),AD76),\"No race run\")","v":"No race run"}]
[{"$nulls":28},0,"No race run",{"$f":"IF(COUNT(F77,H77,J77,L77:N77,P77,R77,T77,#REF!,X77)>5,5,COUNT(F77,H77,J77,L77:N77,P77,R77,T77,#REF!,X77))","v":0},{"$f":"IFERROR(IF(AC77>5,AVERAGE(SMALL((F77,H77,J77,L77,N77,P77,R77,T77,V77,X77,Z77,AB77),{1,2,3,4,5})),AD77),\"No race run\")","v":"No race run"}]
[{"$nulls":28},0,"No race run",{"$f":"IF(COUNT(F78,H78,J78,L78:N78,P78,R78,T78,#REF!,X78)>5,5,COUNT(F78,H78,J78,L78:N78,P78,R78,T78,#REF!,X78))","v":0},{"$f":"IFERROR(IF(AC78>5,AVERAGE(SMALL((F78,H78,J78,L78,N78,P78,R78,T78,V78,X78,Z78,AB78),{1,2,3,4,5})),AD78),\"No race run\")","v":"No race run"}]
[{"$nulls":28},0,"No race run",{"$f":"IF(COUNT(F79,H79,J79,L79:N79,P79,R79,T79,#REF!,X79)>5,5,COUNT(F79,H79,J79,L79:N79,P79,R79,T79,#REF!,X79))","v":0},{"$f":"IFERROR(IF(AC79>5,AVERAGE(SMALL((F79,H79,J79,L79,N79,P79,R79,T79,V79,X79,Z79,AB79),{1,2,3,4,5})),AD79),\"No race run\")","v":"No race run"}]
[{"$nulls":28},0,"No race run",{"$f":"IF(COUNT(F80,H80,J80,L80:N80,P80,R80,T80,#REF!,X80)>5,5,COUNT(F80,H80,J80,L80:N80,P80,R80,T80,#REF!,X80))","v":0},{"$f":"IFERROR(IF(AC80>5,AVERAGE(SMALL((F80,H80,J80,L80,N80,P80,R80,T80,V80,X80,Z80,AB80),{1,2,3,4,5})),AD80),\"No race run\")","v":"No race run"}]
[{"$nulls":28},0,"No race run",{"$f":"IF(COUNT(F81,H81,J81,L81:N81,P81,R81,T81,#REF!,X81)>5,5,COUNT(F81,H81,J81,L81:N81,P81,R81,T81,#REF!,X81))","v":0},{"$f":"IFERROR(IF(AC81>5,AVERAGE(SMALL((F81,H81,J81,L81,N81,P81,R81,T81,V81,X81,Z81,AB81),{1,2,3,4,5})),AD81),\"No race run\")","v":"No race run"}]
[{"$nulls":28},0,"No race run",{"$f":"IF(COUNT(F82,H82,J82,L82:N82,P82,R82,T82,#REF!,X82)>5,5,COUNT(F82,H82,J82,L82:N82,P82,R82,T82,#REF!,X82))","v":0},{"$f":"IFERROR(IF(AC82>5,AVERAGE(SMALL((F82,H82,J82,L82,N82,P82,R82,T82,V82,X82,Z82,AB82),{1,2,3,4,5})),AD82),\"No race run\")","v":"No race run"}]
[{"$nulls":28},0,"No race run",{"$f":"IF(COUNT(F83,H83,J83,L83:N83,P83,R83,T83,#REF!,X83)>5,5,COUNT(F83,H83,J83,L83:N83,P83,R83,T83,#REF!,X83))","v":0},{"$f":"IFERROR(IF(AC83>5,AVERAGE(SMALL((F83,H83,J83,L83,N83,P83,R83,T83,V83,X83,Z83,AB83),{1,2,3,4,5})),AD83),\"No race run\")","v":"No race run"}]
[{"$nulls":28},0,"No race run",{"$f":"IF(COUNT(F84,H84,J84,L84:N84,P84,R84,T84,#REF!,X84)>5,5,COUNT(F84,H84,J84,L84:N84,P84,R84,T84,#REF!,X84))","v":0},{"$f":"IFERROR(IF(AC84>5,AVERAGE(SMALL((F84,H84,J84,L84,N84,P84,R84,T84,V84,X84,Z84,AB84),{1,2,3,4,5})),AD84),\"No race run\")","v":"No race run"}]
[{"$nulls":28},0,"No race run",{"$f":"IF(COUNT(F85,H85,J85,L85:N85,P85,R85,T85,#REF!,X85)>5,5,COUNT(F85,H85,J85,L85:N85,P85,R85,T85,#REF!,X85))","v":0},{"$f":"IFERROR(IF(AC85>5,AVERAGE(SMALL((F85,H85,J85,L85,N85,P85,R85,T85,V85,X85,Z85,AB85),{1,2,3,4,5})),AD85),\"No race run\")","v":"No race run"}]
[{"$nulls":28},0,"No race run",{"$f":"IF(COUNT(F86,H86,J86,L86:N86,P86,R86,T86,#REF!,X86)>5,5,COUNT(F86,H86,J86,L86:N86,P86,R86,T86,#REF!,X86))","v":0},{"$f":"IFERROR(IF(AC86>5,AVERAGE(SMALL((F86,H86,J86,L86,N86, P86,R86,T86,V86,X86,Z86),{1,2,3,4,5})),AD86),\"No race run\")","v":"No race run"}]
[{"$nulls":28},0,"No race run",{"$f":"IF(COUNT(F87,H87,J87,L87:N87,P87,R87,T87,#REF!,X87)>5,5,COUNT(F87,H87,J87,L87:N87,P87,R87,T87,#REF!,X87))","v":0},{"$f":"IFERROR(IF(AC87>5,AVERAGE(SMALL((F87,H87,J87,L87,N87, P87,R87,T87,V87,X87,Z87),{1,2,3,4,5})),AD87),\"No race run\")","v":"No race run"}]
[{"$nulls":28},0,"No race run",{"$f":"IF(COUNT(F88,H88,J88,L88:N88,P88,R88,T88,#REF!,X88)>5,5,COUNT(F88,H88,J88,L88:N88,P88,R88,T88,#REF!,X88))","v":0},{"$f":"IFERROR(IF(AC88>5,AVERAGE(SMALL((F88,H88,J88,L88,N88, P88,R88,T88,V88,X88,Z88),{1,2,3,4,5})),AD88),\"No race run\")","v":"No race run"}]
[{"$nulls":28},0,"No race run",{"$f":"IF(COUNT(F89,H89,J89,L89:N89,P89,R89,T89,#REF!,X89)>5,5,COUNT(F89,H89,J89,L89:N89,P89,R89,T89,#REF!,X89))","v":0},{"$f":"IFERROR(IF(AC89>5,AVERAGE(SMALL((F89,H89,J89,L89,N89, P89,R89,T89,V89,X89,Z89),{1,2,3,4,5})),AD89),\"No race run\")","v":"No race run"}]
[{"$nulls":28},0,"No race run",{"$f":"IF(COUNT(F90,H90,J90,L90:N90,P90,R90,T90,#REF!,X90)>5,5,COUNT(F90,H90,J90,L90:N90,P90,R90,T90,#REF!,X90))","v":0},{"$f":"IFERROR(IF(AC90>5,AVERAGE(SMALL((F90,H90,J90,L90,N90, P90,R90,T90,V90,X90,Z90),{1,2,3,4,5})),AD90),\"No race run\")","v":"No race run"}]
[{"$nulls":28},0,"No race run",{"$f":"IF(COUNT(F91,H91,J91,L91:N91,P91,R91,T91,#REF!,X91)>5,5,COUNT(F91,H91,J91,L91:N91,P91,R91,T91,#REF!,X91))","v":0},{"$f":"IFERROR(IF(AC91>5,AVERAGE(SMALL((F91,H91,J91,L91,N91, P91,R91,T91,V91,X91,Z91),{1,2,3,4,5})),AD91),\"No race run\")","v":"No race run"}]
[{"$nulls":28},0,"No race run",{"$f":"IF(COUNT(F92,H92,J92,L92:N92,P92,R92,T92,#REF!,X92)>5,5,COUNT(F92,H92,J92,L92:N92,P92,R92,T92,#REF!,X92))","v":0},{"$f":"IFERROR(IF(AC92>5,AVERAGE(SMALL((F92,H92,J92,L92,N92, P92,R92,T92,V92,X92,Z92),{1,2,3,4,5})),AD92),\"No race run\")","v":"No race run"}]
[{"$nulls":28},{"$f":"COUNT(F93,H93,J93,L93,N93, P93,R93,T93,V93,X93,#REF!,Z93)","v":0},"No race run",{"$f":"IF(COUNT(F93,H93,J93,L93:N93,P93,R93,T93,#REF!,X93)>5,5,COUNT(F93,H93,J93,L93:N93,P93,R93,T93,#REF!,X93))","v":0},{"$f":"IFERROR(IF(AC93>5,AVERAGE(SMALL((F93,H93,J93,L93,N93, P93,R93,T93,V93,X93,Z93),{1,2,3,4,5})),AD93),\"No race run\")","v":"No race run"}]
[{"$nulls":28},{"$f":"COUNT(F94,H94,J94,L94,N94, P94,R94,T94,V94,X94,#REF!,Z94)","v":0},{"$f":"IFERROR(AVERAGE(F94,H94,J94,L94,N94, P94,R94,T94,V94,X94,Z94),\"No race run\")","v":"No race run"},{"$f":"IF(COUNT(F94,H94,J94,L94:N94,P94,R94,T94,#REF!,X94)>5,5,COUNT(F94,H94,J94,L94:N94,P94,R94,T94,#REF!,X94))","v":0},{"$f":"IFERROR(IF(AC94>5,AVERAGE(SMALL((F94,H94,J94,L94,N94, P94,R94,T94,V94,X94,Z94),{1,2,3,4,5})),AD94),\"No race run\")","v":"No race run"}]
[{"$nulls":28},{"$f":"COUNT(F95,H95,J95,L95,N95, P95,R95,T95,V95,X95,#REF!,Z95)","v":0},"No race run",{"$f":"IF(COUNT(F95,H95,J95,L95:N95,P95,R95,T95,#REF!,X95)>5,5,COUNT(F95,H95,J95,L95:N95,P95,R95,T95,#REF!,X95))","v":0},{"$f":"IFERROR(IF(AC95>5,AVERAGE(SMALL((F95,H95,J95,L95,N95, P95,R95,T95,V95,X95,Z95),{1,2,3,4,5})),AD95),\"No race run\")","v":"No race run"}]

{"sheet":"Filtered","index":1,"n_rows":374,"n_cols":32,"rows_kept":374,"merged":[[1,28,3,28],[1,30,2,30],[1,31,2,31]]}
[null,"Kinross Road Runners 2018 Club Championship"]
[{"$nulls":4},"Alloa Half","Alloa Half","Tay Ten","Tay Ten","Kinross PTA 10k","Kinross PTA 10k","Dunblane 12","Dunblane 12","Rattray Half","Rattray  Half","Brig Bash 5m","Brig Bash 5m","Kn'khill 3.9M","Kn'hill 3.9M","Ceres 8M","Ceres 8M","Highland Half","Highland Half","P'lochry 10km","P'lochry 10km","Linlithgow 10k","Linlithgow 10k","Templeton 10","Templeton 10","No. of Races","Average Time","No. Races  for ranking","Best 5 Average Time"]
[{"$nulls":4},"Actual","SSS 1.4","Actual","SSS 0.7","Actual","SSS 1.3","Actual","SSS 1.9","10k Equiv","SSS 4.8","Actual","SSS 1.6","Actual","SSS 0.1","Actual","SSS 2.4","Actual","SSS 0.4","Actual","SSS 0.2","Actual","SSS 1.3","Actual","SSS 2.7"]
[null,"Surname","First",null,"hh:mm:ss","hh:mm:ss","hh:mm:ss","hh:mm:ss","hh:mm:ss","hh:mm:ss","hh:mm:ss","hh:mm:ss","hh:mm:ss","hh:mm:ss","hh:mm:ss","hh:mm:ss","hh:mm:ss","hh:mm:ss","hh:mm:ss","hh:mm:ss","hh:mm:ss","hh:mm:ss","hh:mm:ss","hh:mm:ss","hh:mm:ss","hh:mm:ss","hh:mm:ss","hh:mm:ss",null,"hh:mm:ss",null,"hh:mm:ss"]
[null,"Test","Test",null,1.1574074074074073E-5,{"$f":"98.2%*(E5*86400)*POWER((6.2138818/13.1094),1.07)/86400","v":5.1130793220129549E-6},1.1574074074074073E-5,{"$f":"99.3%*(G5*86400)*POWER((6.2138818/10),1.07)/86400","v":6.9077069199392513E-6},1.1574074074074073E-5,{"$f":"98.7%*(I5)","v":1.1423611111111111E-5},1.1574074074074073E-5,{"$f":"98.1%*(K5*86400)*POWER((6.2138818/7.45645),1.07)/86400","v":9.34209553582475e-06},1.1574074074074073E-5,{"$f":"95.2%*(M5*86400)*POWER((6.2138818/13.1094),1.07)/86400","v":4.9568752694056355E-6},1.1574074074074073E-5,{"$f":"98.4%*(O5*86400)*POWER((6.2138818/5),1.07)/86400","v":1.4370829881667117E-5},1.1574074074074073E-5,{"$f":"99.9%*(Q5*86400)*POWER((6.2138818/3.9),1.07)/86400","v":1.9033165031087641E-5},1.1574074074074073E-5,{"$f":"97.6%*(S5*86400)*POWER((6.2138818/8),1.07)/86400","v":8.6204152423109141E-6},null,{"$f":"99.6%*(U5*86400)*POWER((6.2138818/13.1094),1.07)/86400","v":0},1.1574074074074073E-5,{"$f":"99.8%*(W5)","v":1.1550925925925926E-5},1.1574074074074073E-5,{"$f":"98.7%*(Y5)","v":1.1423611111111111E-5},1.1574074074074073E-5,{"$f":"97.3%*(AA5*86400)*POWER((6.2138818/10),1.07)/86400","v":6.7685788852979771E-6},{"$f":"COUNT(F5,H5,J5,L5,N5,P5,R5,T5,V5,X5,Z5,AB5)","v":12},{"$f":"IFERROR(AVERAGE(F5,H5,J5,L5,N5,P5,R5,T5,V5,X5,Z5,AB5),\"No race run\")","v":9.125907852974532E-6},{"$f":"IF(COUNT(F5,H5,J5,L5:N5,P5,R5,T5,#REF!,X5)>5,5,COUNT(F5,H5,J5,L5:N5,P5,R5,T5,#REF!,X5))","v":5},{"$f":"IFERROR(IF(AC5>5,AVERAGE(SMALL((F5,H5,J5,L5,N5,P5,R5,T5,V5,X5,Z5,AB5),{1,2,3,4,5})),AD5),\"No race run\")","v":4.7492480793311643E-6}]
[null,"Scott","David","M",0.05627314814814815,{"$f":"98.2%*(E6*86400)*POWER((6.2138818/13.1094),1.07)/86400","v":0.024859791663626986},0.04189814814814815,{"$f":"99.3%*(G6*86400)*POWER((6.2138818/10),1.07)/86400","v":0.025005899050180087},0.025416666666666667,{"$f":"98.7%*(I6)","v":0.02508625},0.03136574074074074,{"$f":"98.1%*(K6*86400)*POWER((6.2138818/7.45645),1.07)/86400","v":0.02531707890208507},{"$nulls":4},0.01525462962962963,{"$f":"99.9%*(Q6*86400)*POWER((6.2138818/3.9),1.07)/86400","v":0.02508571151097351},0.03365740740740741,{"$f":"97.6%*(S6*86400)*POWER((6.2138818/8),1.07)/86400","v":0.02506816752464014},{"$nulls":4},0.02528935185185185,{"$f":"98.7%*(Y6)","v":0.024960590277777778},null,null,7,0.025054784132754797,{"$f":"IF(COUNT(F6,H6,J6,L6:N6,P6,R6,T6,#REF!,X6)>5,5,COUNT(F6,H6,J6,L6:N6,P6,R6,T6,#REF!,X6))","v":5},{"$f":"IFERROR(IF(AC6>5,AVERAGE(SMALL((F6,H6,J6,L6,N6,P6,R6,T6,V6,X6,Z6,AB6),{1,2,3,4,5})),AD6),\"No race run\")","v":0.0249960320054397}]
[null,"Strachan","Scott","M",0.05804398148148148,{"$f":"98.2%*(E7*86400)*POWER((6.2138818/13.1094),1.07)/86400","v":0.025642092799894968},0.042430555555555555,{"$f":"99.3%*(G7*86400)*POWER((6.2138818/10),1.07)/86400","v":0.0253236535684973},{"$nulls":6},0.020497685185185185,{"$f":"98.4%*(O7*86400)*POWER((6.2138818/5),1.07)/86400","v":0.025450739720432467},0.015300925925925926,{"$f":"99.9%*(Q7*86400)*POWER((6.2138818/3.9),1.07)/86400","v":0.02516184417109786},null,null,0.05635416666666667,{"$f":"99.6%*(U7*86400)*POWER((6.2138818/13.1094),1.07)/86400","v":0.02525051006721543},0.025034722222222222,{"$f":"99.8%*(W7)","v":0.02498465277777778},0.025648148148148146,0.02531472222222222,null,null,7,0.02530403076101972,{"$f":"IF(COUNT(F7,H7,J7,L7:N7,P7,R7,T7,#REF!,X7)>5,5,COUNT(F7,H7,J7,L7:N7,P7,R7,T7,#REF!,X7))","v":5},{"$f":"IFERROR(IF(AC7>5,AVERAGE(SMALL((F7,H7,J7,L7,N7,P7,R7,T7,V7,X7,Z7,AB7),{1,2,3,4,5})),AD7),\"No race run\")","v":0.02520707656136212}]
[null,"Kemp","Allan","M",0.06328703703703703,{"$f":"98.2%*(E8*86400)*POWER((6.2138818/13.1094),1.07)/86400","v":0.027958317732766833},0.04303240740740741,{"$f":"99.3%*(G8*86400)*POWER((6.2138818/10),1.07)/86400","v":0.02568285432833414},{"$nulls":16},0.02613425925925926,0.025794513888888888,null,null,3,0.026478561983329953,{"$f":"IF(COUNT(F8,H8,J8,L8:N8,P8,R8,T8,#REF!,X8)>5,5,COUNT(F8,H8,J8,L8:N8,P8,R8,T8,#REF!,X8))","v":2},{"$f":"IFERROR(IF(AC8>5,AVERAGE(SMALL((F8,H8,J8,L8,N8,P8,R8,T8,V8,X8,Z8,AB8),{1,2,3,4,5})),AD8),\"No race run\")","v":0.026478561983329953}]
[null,"Beveridge","John","M",{"$nulls":10},0.021956018518518517,{"$f":"98.4%*(O9*86400)*POWER((6.2138818/5),1.07)/86400","v":0.027261464285522525},{"$nulls":4},0.058460648148148144,{"$f":"99.6%*(U9*86400)*POWER((6.2138818/13.1094),1.07)/86400","v":0.026194357434689907},null,null,0.026747685185185183,0.026399965277777777,null,null,3,0.026618595665996735,{"$f":"IF(COUNT(F9,H9,J9,L9:N9,P9,R9,T9,#REF!,X9)>5,5,COUNT(F9,H9,J9,L9:N9,P9,R9,T9,#REF!,X9))","v":1},{"$f":"IFERROR(IF(AC9>5,AVERAGE(SMALL((F9,H9,J9,L9,N9,P9,R9,T9,V9,X9,Z9,AB9),{1,2,3,4,5})),AD9),\"No race run\")","v":0.026618595665996735}]
[null,"Newton","Matt","M",0.06138888888888889,{"$f":"98.2%*(E10*86400)*POWER((6.2138818/13.1094),1.07)/86400","v":0.027119772723956714},null,null,0.027199074074074073,{"$f":"98.7%*(I10)","v":0.02684548611111111},{"$nulls":14},0.02642361111111111,0.026080104166666666,null,null,3,0.026681787667244827,{"$f":"IF(COUNT(F10,H10,J10,L10:N10,P10,R10,T10,#REF!,X10)>5,5,COUNT(F10,H10,J10,L10:N10,P10,R10,T10,#REF!,X10))","v":2},{"$f":"IFERROR(IF(AC10>5,AVERAGE(SMALL((F10,H10,J10,L10,N10,P10,R10,T10,V10,X10,Z10,AB10),{1,2,3,4,5})),AD10),\"No race run\")","v":0.026681787667244827}]
[null,"Hill","Martin","M",0.06302083333333333,{"$f":"98.2%*(E11*86400)*POWER((6.2138818/13.1094),1.07)/86400","v":0.02784071690836054},0.046678240740740735,{"$f":"99.3%*(G11*86400)*POWER((6.2138818/10),1.07)/86400","v":0.027858782008114993},0.028252314814814813,{"$f":"98.7%*(I11)","v":0.02788503472222222},0.0346875,{"$f":"98.1%*(K11*86400)*POWER((6.2138818/7.45645),1.07)/86400","v":0.027998260320866775},{"$nulls":4},0.01716435185185185,{"$f":"99.9%*(Q11*86400)*POWER((6.2138818/3.9),1.07)/86400","v":0.02822618374110297},{"$nulls":6},0.028402777777777777,0.028033541666666665,null,null,6,0.027973753227889028,{"$f":"IF(COUNT(F11,H11,J11,L11:N11,P11,R11,T11,#REF!,X11)>5,5,COUNT(F11,H11,J11,L11:N11,P11,R11,T11,#REF!,X11))","v":5},{"$f":"IFERROR(IF(AC11>5,AVERAGE(SMALL((F11,H11,J11,L11,N11,P11,R11,T11,V11,X11,Z11,AB11),{1,2,3,4,5})),AD11),\"No race run\")","v":0.02792326712524624}]
[null,"Freck","Sandy","M",null,null,0.04717592592592593,{"$f":"99.3%*(G12*86400)*POWER((6.2138818/10),1.07)/86400","v":0.02815581340567239},{"$nulls":20},1,0.02815581340567239,{"$f":"IF(COUNT(F12,H12,J12,L12:N12,P12,R12,T12,#REF!,X12)>5,5,COUNT(F12,H12,J12,L12:N12,P12,R12,T12,#REF!,X12))","v":1},{"$f":"IFERROR(IF(AC12>5,AVERAGE(SMALL((F12,H12,J12,L12,N12,P12,R12,T12,V12,X12,Z12,AB12),{1,2,3,4,5})),AD12),\"No race run\")","v":0.02815581340567239}]
[null,"Gordon","Jillian","F",null,null,0.04628472222222222,{"$f":"99.3%*(G13*86400)*POWER((6.2138818/10),1.07)/86400","v":0.027623919972837065},{"$nulls":16},0.029155092592592594,{"$f":"98.7%*(Y13)","v":0.02877607638888889},null,null,2,0.028199998180862978,{"$f":"IF(COUNT(F13,H13,J13,L13:N13,P13,R13,T13,#REF!,X13)>5,5,COUNT(F13,H13,J13,L13:N13,P13,R13,T13,#REF!,X13))","v":1},{"$f":"IFERROR(IF(AC13>5,AVERAGE(SMALL((F13,H13,J13,L13,N13,P13,R13,T13,V13,X13,Z13,AB13),{1,2,3,4,5})),AD13),\"No race run\")","v":0.028199998180862978}]
[null,"Nisbet","Fiona","F",null,null,0.04802083333333334,{"$f":"99.3%*(G14*86400)*POWER((6.2138818/10),1.07)/86400","v":0.02866007601082796},null,null,0.03635416666666667,{"$f":"98.1%*(K14*86400)*POWER((6.2138818/7.45645),1.07)/86400","v":0.029343522078025534},null,null,0.023414351851851853,{"$f":"98.4%*(O14*86400)*POWER((6.2138818/5),1.07)/86400","v":0.029072188850612586},0.017870370370370373,{"$f":"99.9%*(Q14*86400)*POWER((6.2138818/3.9),1.07)/86400","v":0.02938720680799932},{"$nulls":6},0.030000000000000002,{"$f":"98.7%*(Y14)","v":0.02961},null,null,5,0.02921459874949308,{"$f":"IF(COUNT(F14,H14,J14,L14:N14,P14,R14,T14,#REF!,X14)>5,5,COUNT(F14,H14,J14,L14:N14,P14,R14,T14,#REF!,X14))","v":4},{"$f":"IFERROR(IF(AC14>5,AVERAGE(SMALL((F14,H14,J14,L14,N14,P14,R14,T14,V14,X14,Z14,AB14),{1,2,3,4,5})),AD14),\"No race run\")","v":0.02921459874949308}]
[null,"Allcoat","Paul","M",0.06719907407407406,{"$f":"98.2%*(E15*86400)*POWER((6.2138818/13.1094),1.07)/86400","v":0.029686538543607217},{"$nulls":8},0.023344907407407408,{"$f":"98.4%*(O15*86400)*POWER((6.2138818/5),1.07)/86400","v":0.028985963871322584},0.01765046296296296,{"$f":"99.9%*(Q15*86400)*POWER((6.2138818/3.9),1.07)/86400","v":0.029025576672408647},{"$nulls":6},0.030300925925925926,{"$f":"98.7%*(Y15)","v":0.02990701388888889},0.05068287037037037,{"$f":"97.3%*(AA15*86400)*POWER((6.2138818/10),1.07)/86400","v":0.029639606938719844},5,0.029448939982989437,{"$f":"IF(COUNT(F15,H15,J15,L15:N15,P15,R15,T15,#REF!,X15)>5,5,COUNT(F15,H15,J15,L15:N15,P15,R15,T15,#REF!,X15))","v":3},{"$f":"IFERROR(IF(AC15>5,AVERAGE(SMALL((F15,H15,J15,L15,N15,P15,R15,T15,V15,X15,Z15,AB15),{1,2,3,4,5})),AD15),\"No race run\")","v":0.029448939982989437}]
[null,"Freck","Sandy","M",0.06934027777777778,{"$f":"98.2%*(E16*86400)*POWER((6.2138818/13.1094),1.07)/86400","v":0.030632458218179615},null,null,0.028807870370370373,{"$f":"98.7%*(I16)","v":0.028433368055555557},{"$nulls":18},2,0.029532913136867588,{"$f":"IF(COUNT(F16,H16,J16,L16:N16,P16,R16,T16,#REF!,X16)>5,5,COUNT(F16,H16,J16,L16:N16,P16,R16,T16,#REF!,X16))","v":2},{"$f":"IFERROR(IF(AC16>5,AVERAGE(SMALL((F16,H16,J16,L16,N16,P16,R16,T16,V16,X16,Z16,AB16),{1,2,3,4,5})),AD16),\"No race run\")","v":0.029532913136867588}]
[null,"Jones","Tim","M",{"$nulls":4},0.030219907407407407,{"$f":"98.7%*(I17)","v":0.02982704861111111},0.03684027777777778,{"$f":"98.1%*(K17*86400)*POWER((6.2138818/7.45645),1.07)/86400","v":0.02973589009053018},{"$nulls":6},0.040185185185185185,{"$f":"97.6%*(S17*86400)*POWER((6.2138818/8),1.07)/86400","v":0.029930081721303493},0.06524305555555555,{"$f":"99.6%*(U17*86400)*POWER((6.2138818/13.1094),1.07)/86400","v":0.029233338518975846},0.0290162037037037,{"$f":"99.8%*(W17)","v":0.028958171296296294},{"$nulls":4},5,0.029536906047643384,{"$f":"IF(COUNT(F17,H17,J17,L17:N17,P17,R17,T17,#REF!,X17)>5,5,COUNT(F17,H17,J17,L17:N17,P17,R17,T17,#REF!,X17))","v":4},{"$f":"IFERROR(IF(AC17>5,AVERAGE(SMALL((F17,H17,J17,L17,N17,P17,R17,T17,V17,X17,Z17,AB17),{1,2,3,4,5})),AD17),\"No race run\")","v":0.029536906047643384}]
[null,"Hutt","Sarah","F",{"$nulls":8},0.07128472222222222,{"$f":"95.2%*(M18*86400)*POWER((6.2138818/13.1094),1.07)/86400","v":0.030529394784269304},0.023657407407407408,{"$f":"98.4%*(O18*86400)*POWER((6.2138818/5),1.07)/86400","v":0.029373976278127593},0.017858796296296296,{"$f":"99.9%*(Q18*86400)*POWER((6.2138818/3.9),1.07)/86400","v":0.029368173642968228},null,null,0.06646990740740741,{"$f":"99.6%*(U18*86400)*POWER((6.2138818/13.1094),1.07)/86400","v":0.029783051820911528},null,null,0.030138888888888885,{"$f":"98.7%*(Y18)","v":0.02974708333333333},0.05096064814814815,{"$f":"97.3%*(AA18*86400)*POWER((6.2138818/10),1.07)/86400","v":0.02980205283196699},6,0.029767288781929496,{"$f":"IF(COUNT(F18,H18,J18,L18:N18,P18,R18,T18,#REF!,X18)>5,5,COUNT(F18,H18,J18,L18:N18,P18,R18,T18,#REF!,X18))","v":4},{"$f":"IFERROR(IF(AC18>5,AVERAGE(SMALL((F18,H18,J18,L18,N18,P18,R18,T18,V18,X18,Z18,AB18),{1,2,3,4,5})),AD18),\"No race run\")","v":0.029614867581461535}]
[null,"Sinclair","Ally","M",0.06934027777777778,{"$f":"98.2%*(E19*86400)*POWER((6.2138818/13.1094),1.07)/86400","v":0.030632458218179615},null,null,0.031828703703703706,{"$f":"98.7%*(I19)","v":0.03141493055555556},{"$nulls":4},0.023750000000000004,{"$f":"98.4%*(O19*86400)*POWER((6.2138818/5),1.07)/86400","v":0.029488942917180933},0.017465277777777777,{"$f":"99.9%*(Q19*86400)*POWER((6.2138818/3.9),1.07)/86400","v":0.028721046031911248},{"$nulls":10},4,0.030064344430706838,{"$f":"IF(COUNT(F19,H19,J19,L19:N19,P19,R19,T19,#REF!,X19)>5,5,COUNT(F19,H19,J19,L19:N19,P19,R19,T19,#REF!,X19))","v":4},{"$f":"IFERROR(IF(AC19>5,AVERAGE(SMALL((F19,H19,J19,L19,N19,P19,R19,T19,V19,X19,Z19,AB19),{1,2,3,4,5})),AD19),\"No race run\")","v":0.030064344430706838}]
[null,"Blair","Steven","M",{"$nulls":4},0.03203703703703704,{"$f":"98.7%*(I20)","v":0.031620555555555555},{"$nulls":4},0.024016203703703706,{"$f":"98.4%*(O20*86400)*POWER((6.2138818/5),1.07)/86400","v":0.029819472004459273},0.017592592592592594,{"$f":"99.9%*(Q20*86400)*POWER((6.2138818/3.9),1.07)/86400","v":0.028930410847253216},{"$nulls":6},0.03037037037037037,{"$f":"98.7%*(Y20)","v":0.029975555555555554},null,null,4,0.030086498490705903,{"$f":"IF(COUNT(F20,H20,J20,L20:N20,P20,R20,T20,#REF!,X20)>5,5,COUNT(F20,H20,J20,L20:N20,P20,R20,T20,#REF!,X20))","v":3},{"$f":"IFERROR(IF(AC20>5,AVERAGE(SMALL((F20,H20,J20,L20,N20,P20,R20,T20,V20,X20,Z20,AB20),{1,2,3,4,5})),AD20),\"No race run\")","v":0.030086498490705903}]
[null,"Creese","Jonathan","M",{"$nulls":4},0.030972222222222224,{"$f":"98.7%*(I21)","v":0.030569583333333334},{"$nulls":18},1,0.030569583333333334,{"$f":"IF(COUNT(F21,H21,J21,L21:N21,P21,R21,T21,#REF!,X21)>5,5,COUNT(F21,H21,J21,L21:N21,P21,R21,T21,#REF!,X21))","v":1},{"$f":"IFERROR(IF(AC21>5,AVERAGE(SMALL((F21,H21,J21,L21,N21,P21,R21,T21,V21,X21,Z21,AB21),{1,2,3,4,5})),AD21),\"No race run\")","v":0.030569583333333334}]
[null,"Dobson","Judith","F",null,null,0.04981481481481481,{"$f":"99.3%*(G22*86400)*POWER((6.2138818/10),1.07)/86400","v":0.02973077058341854},null,null,0.03912037037037037,{"$f":"98.1%*(K22*86400)*POWER((6.2138818/7.45645),1.07)/86400","v":0.031576282911087654},0.07318287037037037,{"$f":"95.2%*(M22*86400)*POWER((6.2138818/13.1094),1.07)/86400","v":0.03134232232845183},0.025833333333333333,{"$f":"98.4%*(O22*86400)*POWER((6.2138818/5),1.07)/86400","v":0.032075692295881},0.01900462962962963,{"$f":"99.9%*(Q22*86400)*POWER((6.2138818/3.9),1.07)/86400","v":0.03125245698104591},{"$nulls":4},0.03050925925925926,{"$f":"99.8%*(W22)","v":0.03044824074074074},0.031053240740740742,{"$f":"98.7%*(Y22)","v":0.030649548611111112},0.052627314814814814,{"$f":"97.3%*(AA22*86400)*POWER((6.2138818/10),1.07)/86400","v":0.0307767281914499},8,0.030981505330398333,{"$f":"IF(COUNT(F22,H22,J22,L22:N22,P22,R22,T22,#REF!,X22)>5,5,COUNT(F22,H22,J22,L22:N22,P22,R22,T22,#REF!,X22))","v":5},{"$f":"IFERROR(IF(AC22>5,AVERAGE(SMALL((F22,H22,J22,L22,N22,P22,R22,T22,V22,X22,Z22,AB22),{1,2,3,4,5})),AD22),\"No race run\")","v":0.030571549021553242}]
[null,"Boyle","John","M",{"$nulls":22},0.05288194444444444,{"$f":"97.3%*(AA23*86400)*POWER((6.2138818/10),1.07)/86400","v":0.03092563692692646},1,0.03092563692692646,{"$f":"IF(COUNT(F23,H23,J23,L23:N23,P23,R23,T23,#REF!,X23)>5,5,COUNT(F23,H23,J23,L23:N23,P23,R23,T23,#REF!,X23))","v":0},{"$f":"IFERROR(IF(AC23>5,AVERAGE(SMALL((F23,H23,J23,L23,N23,P23,R23,T23,V23,X23,Z23,AB23),{1,2,3,4,5})),AD23),\"No race run\")","v":0.03092563692692646}]
[null,"Reilly","Jim","M",0.07825231481481482,{"$f":"98.2%*(E24*86400)*POWER((6.2138818/13.1094),1.07)/86400","v":0.03456952929612959},0.055,{"$f":"99.3%*(G24*86400)*POWER((6.2138818/10),1.07)/86400","v":0.03282542328355132},0.03209490740740741,{"$f":"98.7%*(I24)","v":0.031677673611111117},0.03986111111111111,{"$f":"98.1%*(K24*86400)*POWER((6.2138818/7.45645),1.07)/86400","v":0.03217417702538044},null,null,0.02546296296296296,{"$f":"98.4%*(O24*86400)*POWER((6.2138818/5),1.07)/86400","v":0.03161582573966766},{"$nulls":6},0.031655092592592596,{"$f":"99.8%*(W24)","v":0.03159178240740741},0.031203703703703702,{"$f":"98.7%*(Y24)","v":0.030798055555555554},null,null,7,0.0321789238455433,{"$f":"IF(COUNT(F24,H24,J24,L24:N24,P24,R24,T24,#REF!,X24)>5,5,COUNT(F24,H24,J24,L24:N24,P24,R24,T24,#REF!,X24))","v":5},{"$f":"IFERROR(IF(AC24>5,AVERAGE(SMALL((F24,H24,J24,L24,N24,P24,R24,T24,V24,X24,Z24,AB24),{1,2,3,4,5})),AD24),\"No race run\")","v":0.03157150286782444}]
[null,"Hookham","Peter","M",null,null,0.05310185185185185,{"$f":"99.3%*(G25*86400)*POWER((6.2138818/10),1.07)/86400","v":0.03169255934868129},{"$nulls":20},1,0.03169255934868129,{"$f":"IF(COUNT(F25,H25,J25,L25:N25,P25,R25,T25,#REF!,X25)>5,5,COUNT(F25,H25,J25,L25:N25,P25,R25,T25,#REF!,X25))","v":1},{"$f":"IFERROR(IF(AC25>5,AVERAGE(SMALL((F25,H25,J25,L25,N25,P25,R25,T25,V25,X25,Z25,AB25),{1,2,3,4,5})),AD25),\"No race run\")","v":0.03169255934868129}]
[null,"Pool","Richard","M",0.07549768518518518,{"$f":"98.2%*(E26*86400)*POWER((6.2138818/13.1094),1.07)/86400","v":0.03335261641749051},0.05408564814814815,{"$f":"99.3%*(G26*86400)*POWER((6.2138818/10),1.07)/86400","v":0.03227971443687612},0.03152777777777777,{"$f":"98.7%*(I26)","v":0.031117916666666662},{"$nulls":6},0.01934027777777778,{"$f":"99.9%*(Q26*86400)*POWER((6.2138818/3.9),1.07)/86400","v":0.03180441876694745},{"$nulls":10},4,0.032138666571995184,{"$f":"IF(COUNT(F26,H26,J26,L26:N26,P26,R26,T26,#REF!,X26)>5,5,COUNT(F26,H26,J26,L26:N26,P26,R26,T26,#REF!,X26))","v":4},{"$f":"IFERROR(IF(AC26>5,AVERAGE(SMALL((F26,H26,J26,L26,N26,P26,R26,T26,V26,X26,Z26,AB26),{1,2,3,4,5})),AD26),\"No race run\")","v":0.032138666571995184}]
[null,"Muncey","Laura","F",0.07476851851851851,{"$f":"98.2%*(E27*86400)*POWER((6.2138818/13.1094),1.07)/86400","v":0.033030492420203686},0.05445601851851852,{"$f":"99.3%*(G27*86400)*POWER((6.2138818/10),1.07)/86400","v":0.032500761058314176},null,null,0.0415162037037037,{"$f":"98.1%*(K27*86400)*POWER((6.2138818/7.45645),1.07)/86400","v":0.03351009668700337},null,null,0.025659722222222223,{"$f":"98.4%*(O27*86400)*POWER((6.2138818/5),1.07)/86400","v":0.03186012984765601},{"$nulls":4},0.07885416666666667,{"$f":"99.6%*(U27*86400)*POWER((6.2138818/13.1094),1.07)/86400","v":0.035332044585733975},null,null,0.035023148148148144,{"$f":"98.7%*(Y27)","v":0.03456784722222222},null,null,6,0.03346689530352224,{"$f":"IF(COUNT(F27,H27,J27,L27:N27,P27,R27,T27,#REF!,X27)>5,5,COUNT(F27,H27,J27,L27:N27,P27,R27,T27,#REF!,X27))","v":4},{"$f":"IFERROR(IF(AC27>5,AVERAGE(SMALL((F27,H27,J27,L27,N27,P27,R27,T27,V27,X27,Z27,AB27),{1,2,3,4,5})),AD27),\"No race run\")","v":0.033093865447079894}]
[null,"Woodrow","Andrew","M",{"$nulls":4},0.03399305555555556,{"$f":"98.7%*(I28)","v":0.03355114583333334},{"$nulls":18},1,0.03355114583333334,{"$f":"IF(COUNT(F28,H28,J28,L28:N28,P28,R28,T28,#REF!,X28)>5,5,COUNT(F28,H28,J28,L28:N28,P28,R28,T28,#REF!,X28))","v":1},{"$f":"IFERROR(IF(AC28>5,AVERAGE(SMALL((F28,H28,J28,L28,N28,P28,R28,T28,V28,X28,Z28,AB28),{1,2,3,4,5})),AD28),\"No race run\")","v":0.03355114583333334}]
[null,"Nisbet","Stewart","M",{"$nulls":10},0.027824074074074074,{"$f":"98.4%*(O29*86400)*POWER((6.2138818/5),1.07)/86400","v":0.034547475035527755},{"$nulls":8},0.03378472222222222,{"$f":"98.7%*(Y29)","v":0.033345520833333336},null,null,2,0.033946497934430546,{"$f":"IF(COUNT(F29,H29,J29,L29:N29,P29,R29,T29,#REF!,X29)>5,5,COUNT(F29,H29,J29,L29:N29,P29,R29,T29,#REF!,X29))","v":1},{"$f":"IFERROR(IF(AC29>5,AVERAGE(SMALL((F29,H29,J29,L29,N29,P29,R29,T29,V29,X29,Z29,AB29),{1,2,3,4,5})),AD29),\"No race run\")","v":0.033946497934430546}]
[null,"Blair","Gordon","M",{"$nulls":20},0.03450231481481481,{"$f":"98.7%*(Y30)","v":0.034053784722222216},null,null,1,0.034053784722222216,{"$f":"IF(COUNT(F30,H30,J30,L30:N30,P30,R30,T30,#REF!,X30)>5,5,COUNT(F30,H30,J30,L30:N30,P30,R30,T30,#REF!,X30))","v":0},{"$f":"IFERROR(IF(AC30>5,AVERAGE(SMALL((F30,H30,J30,L30,N30,P30,R30,T30,V30,X30,Z30,AB30),{1,2,3,4,5})),AD30),\"No race run\")","v":0.034053784722222216}]
[null,"McLeod","James","M",{"$nulls":12},0.02111111111111111,{"$f":"99.9%*(Q31*86400)*POWER((6.2138818/3.9),1.07)/86400","v":0.03471649301670385},{"$nulls":10},1,0.03471649301670385,{"$f":"IF(COUNT(F31,H31,J31,L31:N31,P31,R31,T31,#REF!,X31)>5,5,COUNT(F31,H31,J31,L31:N31,P31,R31,T31,#REF!,X31))","v":1},{"$f":"IFERROR(IF(AC31>5,AVERAGE(SMALL((F31,H31,J31,L31,N31,P31,R31,T31,V31,X31,Z31,AB31),{1,2,3,4,5})),AD31),\"No race run\")","v":0.03471649301670385}]
[null,"McGregor","Steph","F",{"$nulls":22},0.05966435185185185,{"$f":"97.3%*(AA32*86400)*POWER((6.2138818/10),1.07)/86400","v":0.034892024153711065},1,0.034892024153711065,{"$f":"IF(COUNT(F32,H32,J32,L32:N32,P32,R32,T32,#REF!,X32)>5,5,COUNT(F32,H32,J32,L32:N32,P32,R32,T32,#REF!,X32))","v":0},{"$f":"IFERROR(IF(AC32>5,AVERAGE(SMALL((F32,H32,J32,L32,N32,P32,R32,T32,V32,X32,Z32,AB32),{1,2,3,4,5})),AD32),\"No race run\")","v":0.034892024153711065}]
[null,"Baughan","Paul","M",0.07976851851851852,{"$f":"98.2%*(E33*86400)*POWER((6.2138818/13.1094),1.07)/86400","v":0.03523934268731328},{"$nulls":22},1,0.03523934268731328,{"$f":"IF(COUNT(F33,H33,J33,L33:N33,P33,R33,T33,#REF!,X33)>5,5,COUNT(F33,H33,J33,L33:N33,P33,R33,T33,#REF!,X33))","v":1},{"$f":"IFERROR(IF(AC33>5,AVERAGE(SMALL((F33,H33,J33,L33,N33,P33,R33,T33,V33,X33,Z33,AB33),{1,2,3,4,5})),AD33),\"No race run\")","v":0.03523934268731328}]
[null,"Atkinson","Michael","M",{"$nulls":4},0.03636574074074074,{"$f":"98.7%*(I34)","v":0.03589298611111111},{"$nulls":6},0.021215277777777777,{"$f":"99.9%*(Q34*86400)*POWER((6.2138818/3.9),1.07)/86400","v":0.034887791501983643},{"$nulls":10},2,0.03539038880654738,{"$f":"IF(COUNT(F34,H34,J34,L34:N34,P34,R34,T34,#REF!,X34)>5,5,COUNT(F34,H34,J34,L34:N34,P34,R34,T34,#REF!,X34))","v":2},{"$f":"IFERROR(IF(AC34>5,AVERAGE(SMALL((F34,H34,J34,L34,N34,P34,R34,T34,V34,X34,Z34,AB34),{1,2,3,4,5})),AD34),\"No race run\")","v":0.03539038880654738}]
[null,"Dobson","Stuart","M",{"$nulls":6},0.044085648148148145,{"$f":"98.1%*(K35*86400)*POWER((6.2138818/7.45645),1.07)/86400","v":0.035584041895956466},0.08737268518518519,{"$f":"95.2%*(M35*86400)*POWER((6.2138818/13.1094),1.07)/86400","v":0.03741945140874314},0.028784722222222225,{"$f":"98.4%*(O35*86400)*POWER((6.2138818/5),1.07)/86400","v":0.03574025391570613},0.02181712962962963,{"$f":"99.9%*(Q35*86400)*POWER((6.2138818/3.9),1.07)/86400","v":0.0358775160836002},{"$nulls":4},0.03508101851851852,{"$f":"99.8%*(W35)","v":0.03501085648148148},0.0359837962962963,{"$f":"98.7%*(Y35)","v":0.03551600694444445},0.06190972222222222,{"$f":"97.3%*(AA35*86400)*POWER((6.2138818/10),1.07)/86400","v":0.036205128457458886},7,0.035907607883912965,{"$f":"IF(COUNT(F35,H35,J35,L35:N35,P35,R35,T35,#REF!,X35)>5,5,COUNT(F35,H35,J35,L35:N35,P35,R35,T35,#REF!,X35))","v":5},{"$f":"IFERROR(IF(AC35>5,AVERAGE(SMALL((F35,H35,J35,L35,N35,P35,R35,T35,V35,X35,Z35,AB35),{1,2,3,4,5})),AD35),\"No race run\")","v":0.03554573506423774}]
[null,"Findlay","Valerie","F",null,null,0.06035879629629629,{"$f":"99.3%*(G36*86400)*POWER((6.2138818/10),1.07)/86400","v":0.03602369158748319},0.03653935185185185,{"$f":"98.7%*(I36)","v":0.03606434027777777},{"$nulls":4},0.02943287037037037,{"$f":"98.4%*(O36*86400)*POWER((6.2138818/5),1.07)/86400","v":0.03654502038907949},0.021377314814814818,{"$f":"99.9%*(Q36*86400)*POWER((6.2138818/3.9),1.07)/86400","v":0.03515425581241888},null,null,0.08094907407407408,{"$f":"99.6%*(U36*86400)*POWER((6.2138818/13.1094),1.07)/86400","v":0.03627070597866189},{"$nulls":4},0.06310185185185185,{"$f":"97.3%*(AA36*86400)*POWER((6.2138818/10),1.07)/86400","v":0.036902292082644575},6,0.03616005102134429,{"$f":"IF(COUNT(F36,H36,J36,L36:N36,P36,R36,T36,#REF!,X36)>5,5,COUNT(F36,H36,J36,L36:N36,P36,R36,T36,#REF!,X36))","v":4},{"$f":"IFERROR(IF(AC36>5,AVERAGE(SMALL((F36,H36,J36,L36,N36,P36,R36,T36,V36,X36,Z36,AB36),{1,2,3,4,5})),AD36),\"No race run\")","v":0.03601160280908424}]
[null,"Lopez","Gill ","F",null,null,0.059166666666666666,{"$f":"99.3%*(G37*86400)*POWER((6.2138818/10),1.07)/86400","v":0.03531219777472946},{"$nulls":6},0.029988425925925922,{"$f":"98.4%*(O37*86400)*POWER((6.2138818/5),1.07)/86400","v":0.0372348202233995},{"$nulls":12},{"$f":"COUNT(F37,H37,J37,L37,N37,P37,R37,T37,V37,X37,Z37,AB37)","v":2},{"$f":"IFERROR(AVERAGE(F37,H37,J37,L37,N37,P37,R37,T37,V37,X37,Z37,AB37),\"No race run\")","v":0.03627350899906448},{"$f":"IF(COUNT(F37,H37,J37,L37:N37,P37,R37,T37,#REF!,X37)>5,5,COUNT(F37,H37,J37,L37:N37,P37,R37,T37,#REF!,X37))","v":2},{"$f":"IFERROR(IF(AC37>5,AVERAGE(SMALL((F37,H37,J37,L37,N37,P37,R37,T37,V37,X37,Z37,AB37),{1,2,3,4,5})),AD37),\"No race run\")","v":0.03627350899906448}]
[null,"Gregory","Alison","F",{"$nulls":16},0.08106481481481481,{"$f":"99.6%*(U38*86400)*POWER((6.2138818/13.1094),1.07)/86400","v":0.036322565724127516},{"$nulls":6},1,0.036322565724127516,{"$f":"IF(COUNT(F38,H38,J38,L38:N38,P38,R38,T38,#REF!,X38)>5,5,COUNT(F38,H38,J38,L38:N38,P38,R38,T38,#REF!,X38))","v":0},{"$f":"IFERROR(IF(AC38>5,AVERAGE(SMALL((F38,H38,J38,L38,N38,P38,R38,T38,V38,X38,Z38,AB38),{1,2,3,4,5})),AD38),\"No race run\")","v":0.036322565724127516}]
[null,"Wilson","Anne","F",{"$nulls":10},0.029988425925925922,{"$f":"98.4%*(O39*86400)*POWER((6.2138818/5),1.07)/86400","v":0.0372348202233995},0.02224537037037037,{"$f":"99.9%*(Q39*86400)*POWER((6.2138818/3.9),1.07)/86400","v":0.036581743189750444},{"$nulls":10},2,0.03690828170657497,{"$f":"IF(COUNT(F39,H39,J39,L39:N39,P39,R39,T39,#REF!,X39)>5,5,COUNT(F39,H39,J39,L39:N39,P39,R39,T39,#REF!,X39))","v":2},{"$f":"IFERROR(IF(AC39>5,AVERAGE(SMALL((F39,H39,J39,L39,N39,P39,R39,T39,V39,X39,Z39,AB39),{1,2,3,4,5})),AD39),\"No race run\")","v":0.03690828170657497}]
[null,"Verdot","Leigh","F",{"$nulls":8},0.10065972222222223,{"$f":"95.2%*(M40*86400)*POWER((6.2138818/13.1094),1.07)/86400","v":0.043109944218020814},null,null,0.021805555555555554,{"$f":"99.9%*(Q40*86400)*POWER((6.2138818/3.9),1.07)/86400","v":0.035858482918569114},0.05042824074074074,{"$f":"97.6%*(S40*86400)*POWER((6.2138818/8),1.07)/86400","v":0.037559149210748655},null,null,0.03684027777777778,{"$f":"99.8%*(W40)","v":0.036766597222222225},0.036909722222222226,{"$f":"98.7%*(Y40)","v":0.03642989583333334},0.06557870370370371,{"$f":"97.3%*(AA40*86400)*POWER((6.2138818/10),1.07)/86400","v":0.038350767964098344},6,0.03801247289449875,{"$f":"IF(COUNT(F40,H40,J40,L40:N40,P40,R40,T40,#REF!,X40)>5,5,COUNT(F40,H40,J40,L40:N40,P40,R40,T40,#REF!,X40))","v":5},{"$f":"IFERROR(IF(AC40>5,AVERAGE(SMALL((F40,H40,J40,L40,N40,P40,R40,T40,V40,X40,Z40,AB40),{1,2,3,4,5})),AD40),\"No race run\")","v":0.03699297862979433}]
[null,"Blair","Sheena","F",0.08559027777777778,{"$f":"98.2%*(E41*86400)*POWER((6.2138818/13.1094),1.07)/86400","v":0.037811221586285804},0.060787037037037035,{"$f":"99.3%*(G41*86400)*POWER((6.2138818/10),1.07)/86400","v":0.03627927674352095},{"$nulls":20},2,0.03704524916490338,{"$f":"IF(COUNT(F41,H41,J41,L41:N41,P41,R41,T41,#REF!,X41)>5,5,COUNT(F41,H41,J41,L41:N41,P41,R41,T41,#REF!,X41))","v":2},{"$f":"IFERROR(IF(AC41>5,AVERAGE(SMALL((F41,H41,J41,L41,N41,P41,R41,T41,V41,X41,Z41,AB41),{1,2,3,4,5})),AD41),\"No race run\")","v":0.03704524916490338}]
[null,"McKay","Duncan","M",null,null,0.06209490740740741,{"$f":"99.3%*(G42*86400)*POWER((6.2138818/10),1.07)/86400","v":0.037059847625474075},{"$nulls":20},1,0.037059847625474075,{"$f":"IF(COUNT(F42,H42,J42,L42:N42,P42,R42,T42,#REF!,X42)>5,5,COUNT(F42,H42,J42,L42:N42,P42,R42,T42,#REF!,X42))","v":1},{"$f":"IFERROR(IF(AC42>5,AVERAGE(SMALL((F42,H42,J42,L42,N42,P42,R42,T42,V42,X42,Z42,AB42),{1,2,3,4,5})),AD42),\"No race run\")","v":0.037059847625474075}]
[null,"Beveridge","Lynn","F",{"$nulls":10},0.02956018518518519,{"$f":"98.4%*(O43*86400)*POWER((6.2138818/5),1.07)/86400","v":0.03670309951777783},{"$nulls":8},0.03837962962962963,{"$f":"98.7%*(Y43)","v":0.037880694444444446},null,null,2,0.03729189698111114,{"$f":"IF(COUNT(F43,H43,J43,L43:N43,P43,R43,T43,#REF!,X43)>5,5,COUNT(F43,H43,J43,L43:N43,P43,R43,T43,#REF!,X43))","v":1},{"$f":"IFERROR(IF(AC43>5,AVERAGE(SMALL((F43,H43,J43,L43,N43,P43,R43,T43,V43,X43,Z43,AB43),{1,2,3,4,5})),AD43),\"No race run\")","v":0.03729189698111114}]
[null,"Bilton","Geoff","M",null,null,0.06244212962962963,{"$f":"99.3%*(G44*86400)*POWER((6.2138818/10),1.07)/86400","v":0.03726707883307226},0.03678240740740741,{"$f":"98.7%*(I44)","v":0.03630423611111111},{"$nulls":16},0.06621527777777779,{"$f":"97.3%*(AA44*86400)*POWER((6.2138818/10),1.07)/86400","v":0.03872303980278973},3,0.03743145158232437,{"$f":"IF(COUNT(F44,H44,J44,L44:N44,P44,R44,T44,#REF!,X44)>5,5,COUNT(F44,H44,J44,L44:N44,P44,R44,T44,#REF!,X44))","v":2},{"$f":"IFERROR(IF(AC44>5,AVERAGE(SMALL((F44,H44,J44,L44,N44,P44,R44,T44,V44,X44,Z44,AB44),{1,2,3,4,5})),AD44),\"No race run\")","v":0.03743145158232437}]
[null,"Smith","Alison","F",null,null,0.06282407407407407,{"$f":"99.3%*(G45*86400)*POWER((6.2138818/10),1.07)/86400","v":0.037495033161430255},0.038657407407407404,{"$f":"98.7%*(I45)","v":0.038154861111111105},{"$nulls":6},0.02297453703703704,{"$f":"99.9%*(Q45*86400)*POWER((6.2138818/3.9),1.07)/86400","v":0.03778083258670897},null,null,0.08395833333333334,{"$f":"99.6%*(U45*86400)*POWER((6.2138818/13.1094),1.07)/86400","v":0.03761905936076829},null,null,0.03827546296296296,{"$f":"98.7%*(Y45)","v":0.037777881944444446},0.06626157407407407,{"$f":"97.3%*(AA45*86400)*POWER((6.2138818/10),1.07)/86400","v":0.03875011411833092},6,0.03792963038046567,{"$f":"IF(COUNT(F45,H45,J45,L45:N45,P45,R45,T45,#REF!,X45)>5,5,COUNT(F45,H45,J45,L45:N45,P45,R45,T45,#REF!,X45))","v":3},{"$f":"IFERROR(IF(AC45>5,AVERAGE(SMALL((F45,H45,J45,L45,N45,P45,R45,T45,V45,X45,Z45,AB45),{1,2,3,4,5})),AD45),\"No race run\")","v":0.03776553363289261}]
[null,"Aird","Andrew","M",{"$nulls":4},0.03836805555555555,{"$f":"98.7%*(I46)","v":0.03786927083333333},{"$nulls":4},0.03173611111111111,{"$f":"98.4%*(O46*86400)*POWER((6.2138818/5),1.07)/86400","v":0.03940481553553124},0.02259259259259259,{"$f":"99.9%*(Q46*86400)*POWER((6.2138818/3.9),1.07)/86400","v":0.03715273814068307},{"$nulls":6},0.0390162037037037,{"$f":"98.7%*(Y46)","v":0.03850899305555555},null,null,4,0.0382339543912758,{"$f":"IF(COUNT(F46,H46,J46,L46:N46,P46,R46,T46,#REF!,X46)>5,5,COUNT(F46,H46,J46,L46:N46,P46,R46,T46,#REF!,X46))","v":3},{"$f":"IFERROR(IF(AC46>5,AVERAGE(SMALL((F46,H46,J46,L46,N46,P46,R46,T46,V46,X46,Z46,AB46),{1,2,3,4,5})),AD46),\"No race run\")","v":0.0382339543912758}]
[null,"Donnachie","Gordon","M",{"$nulls":18},0.03841435185185185,{"$f":"99.8%*(W47)","v":0.03833752314814815},{"$nulls":4},1,0.03833752314814815,{"$f":"IF(COUNT(F47,H47,J47,L47:N47,P47,R47,T47,#REF!,X47)>5,5,COUNT(F47,H47,J47,L47:N47,P47,R47,T47,#REF!,X47))","v":1},{"$f":"IFERROR(IF(AC47>5,AVERAGE(SMALL((F47,H47,J47,L47,N47,P47,R47,T47,V47,X47,Z47,AB47),{1,2,3,4,5})),AD47),\"No race run\")","v":0.03833752314814815}]
[null,"Mitchell","Karen","F",0.0897337962962963,{"$f":"98.2%*(E48*86400)*POWER((6.2138818/13.1094),1.07)/86400","v":0.03964170398356644},0.06440972222222223,{"$f":"99.3%*(G48*86400)*POWER((6.2138818/10),1.07)/86400","v":0.038441389009461945},0.03806712962962963,{"$f":"98.7%*(I48)","v":0.037572256944444445},{"$nulls":6},0.023171296296296297,{"$f":"99.9%*(Q48*86400)*POWER((6.2138818/3.9),1.07)/86400","v":0.038104396392237457},{"$nulls":10},4,0.038439936582427565,{"$f":"IF(COUNT(F48,H48,J48,L48:N48,P48,R48,T48,#REF!,X48)>5,5,COUNT(F48,H48,J48,L48:N48,P48,R48,T48,#REF!,X48))","v":4},{"$f":"IFERROR(IF(AC48>5,AVERAGE(SMALL((F48,H48,J48,L48,N48,P48,R48,T48,V48,X48,Z48,AB48),{1,2,3,4,5})),AD48),\"No race run\")","v":0.038439936582427565}]
[null,"Macintyre","Anne","F",null,null,0.06582175925925926,{"$f":"99.3%*(G49*86400)*POWER((6.2138818/10),1.07)/86400","v":0.03928412925369452},0.0415162037037037,{"$f":"98.7%*(I49)","v":0.04097649305555555},{"$nulls":10},0.08715277777777779,{"$f":"99.6%*(U49*86400)*POWER((6.2138818/13.1094),1.07)/86400","v":0.03905038833561968},{"$nulls":4},0.06747685185185186,{"$f":"97.3%*(AA49*86400)*POWER((6.2138818/10),1.07)/86400","v":0.039460814901287215},4,0.039692956386539247,{"$f":"IF(COUNT(F49,H49,J49,L49:N49,P49,R49,T49,#REF!,X49)>5,5,COUNT(F49,H49,J49,L49:N49,P49,R49,T49,#REF!,X49))","v":2},{"$f":"IFERROR(IF(AC49>5,AVERAGE(SMALL((F49,H49,J49,L49,N49,P49,R49,T49,V49,X49,Z49,AB49),{1,2,3,4,5})),AD49),\"No race run\")","v":0.039692956386539247}]
[null,"Rennie","Amanda","F",{"$nulls":4},0.03993055555555556,{"$f":"98.7%*(I50)","v":0.03941145833333334},null,null,0.10403935185185186,{"$f":"95.2%*(M50*86400)*POWER((6.2138818/13.1094),1.07)/86400","v":0.04455735179668725},0.031099537037037037,{"$f":"98.4%*(O50*86400)*POWER((6.2138818/5),1.07)/86400","v":0.03861441989203955},{"$nulls":12},3,0.040861076674020044,{"$f":"IF(COUNT(F50,H50,J50,L50:N50,P50,R50,T50,#REF!,X50)>5,5,COUNT(F50,H50,J50,L50:N50,P50,R50,T50,#REF!,X50))","v":4},{"$f":"IFERROR(IF(AC50>5,AVERAGE(SMALL((F50,H50,J50,L50,N50,P50,R50,T50,V50,X50,Z50,AB50),{1,2,3,4,5})),AD50),\"No race run\")","v":0.040861076674020044}]
[null,"Houston","Alison ","F",{"$nulls":10},0.03295138888888889,{"$f":"98.4%*(O51*86400)*POWER((6.2138818/5),1.07)/86400","v":0.04091375267310629},{"$nulls":12},1,0.04091375267310629,{"$f":"IF(COUNT(F51,H51,J51,L51:N51,P51,R51,T51,#REF!,X51)>5,5,COUNT(F51,H51,J51,L51:N51,P51,R51,T51,#REF!,X51))","v":1},{"$f":"IFERROR(IF(AC51>5,AVERAGE(SMALL((F51,H51,J51,L51,N51,P51,R51,T51,V51,X51,Z51,AB51),{1,2,3,4,5})),AD51),\"No race run\")","v":0.04091375267310629}]
[null,"Turnbull","Wendy","F",0.0939236111111111,{"$f":"98.2%*(E52*86400)*POWER((6.2138818/13.1094),1.07)/86400","v":0.041492638698135124},0.06813657407407407,{"$f":"99.3%*(G52*86400)*POWER((6.2138818/10),1.07)/86400","v":0.04066567063768237},{"$nulls":20},2,0.04107915466790875,{"$f":"IF(COUNT(F52,H52,J52,L52:N52,P52,R52,T52,#REF!,X52)>5,5,COUNT(F52,H52,J52,L52:N52,P52,R52,T52,#REF!,X52))","v":2},{"$f":"IFERROR(IF(AC52>5,AVERAGE(SMALL((F52,H52,J52,L52,N52,P52,R52,T52,V52,X52,Z52,AB52),{1,2,3,4,5})),AD52),\"No race run\")","v":0.04107915466790875}]
[null,"Bell","Dianne","F",{"$nulls":4},0.03988425925925926,{"$f":"98.7%*(I53)","v":0.039365763888888884},{"$nulls":6},0.026041666666666668,{"$f":"99.9%*(Q53*86400)*POWER((6.2138818/3.9),1.07)/86400","v":0.042824621319947194},{"$nulls":10},2,0.04109519260441804,{"$f":"IF(COUNT(F53,H53,J53,L53:N53,P53,R53,T53,#REF!,X53)>5,5,COUNT(F53,H53,J53,L53:N53,P53,R53,T53,#REF!,X53))","v":2},{"$f":"IFERROR(IF(AC53>5,AVERAGE(SMALL((F53,H53,J53,L53,N53,P53,R53,T53,V53,X53,Z53,AB53),{1,2,3,4,5})),AD53),\"No race run\")","v":0.04109519260441804}]
[null,"McLean","Susan","F",{"$nulls":10},0.03417824074074074,{"$f":"98.4%*(O54*86400)*POWER((6.2138818/5),1.07)/86400","v":0.042437060640563004},0.02440972222222222,{"$f":"99.9%*(Q54*86400)*POWER((6.2138818/3.9),1.07)/86400","v":0.04014094505056383},{"$nulls":10},2,0.041289002845563416,{"$f":"IF(COUNT(F54,H54,J54,L54:N54,P54,R54,T54,#REF!,X54)>5,5,COUNT(F54,H54,J54,L54:N54,P54,R54,T54,#REF!,X54))","v":2},{"$f":"IFERROR(IF(AC54>5,AVERAGE(SMALL((F54,H54,J54,L54,N54,P54,R54,T54,V54,X54,Z54,AB54),{1,2,3,4,5})),AD54),\"No race run\")","v":0.041289002845563416}]
[null,"Zabek","Lynne","F",null,null,0.07175925925925926,{"$f":"99.3%*(G55*86400)*POWER((6.2138818/10),1.07)/86400","v":0.04282778290362336},0.04069444444444444,{"$f":"98.7%*(I55)","v":0.04016541666666666},{"$nulls":18},2,0.041496599785145014,{"$f":"IF(COUNT(F55,H55,J55,L55:N55,P55,R55,T55,#REF!,X55)>5,5,COUNT(F55,H55,J55,L55:N55,P55,R55,T55,#REF!,X55))","v":2},{"$f":"IFERROR(IF(AC55>5,AVERAGE(SMALL((F55,H55,J55,L55,N55,P55,R55,T55,V55,X55,Z55,AB55),{1,2,3,4,5})),AD55),\"No race run\")","v":0.041496599785145014}]
[null,"Gillespie","Lisa","F",null,null,0.07701388888888888,{"$f":"99.3%*(G56*86400)*POWER((6.2138818/10),1.07)/86400","v":0.045963881845275764},{"$nulls":8},0.024120370370370372,{"$f":"99.9%*(Q56*86400)*POWER((6.2138818/3.9),1.07)/86400","v":0.03966511592478664},{"$nulls":8},0.06809027777777778,{"$f":"97.3%*(AA56*86400)*POWER((6.2138818/10),1.07)/86400","v":0.03981954958220799},3,0.0418161824507568,{"$f":"IF(COUNT(F56,H56,J56,L56:N56,P56,R56,T56,#REF!,X56)>5,5,COUNT(F56,H56,J56,L56:N56,P56,R56,T56,#REF!,X56))","v":2},{"$f":"IFERROR(IF(AC56>5,AVERAGE(SMALL((F56,H56,J56,L56,N56,P56,R56,T56,V56,X56,Z56,AB56),{1,2,3,4,5})),AD56),\"No race run\")","v":0.0418161824507568}]
[null,"Marsh","Karen","F",{"$nulls":12},0.025983796296296297,{"$f":"99.9%*(Q57*86400)*POWER((6.2138818/3.9),1.07)/86400","v":0.04272945549479175},{"$nulls":8},0.07038194444444444,{"$f":"97.3%*(AA57*86400)*POWER((6.2138818/10),1.07)/86400","v":0.041159728201497},2,0.04194459184814438,{"$f":"IF(COUNT(F57,H57,J57,L57:N57,P57,R57,T57,#REF!,X57)>5,5,COUNT(F57,H57,J57,L57:N57,P57,R57,T57,#REF!,X57))","v":1},{"$f":"IFERROR(IF(AC57>5,AVERAGE(SMALL((F57,H57,J57,L57,N57,P57,R57,T57,V57,X57,Z57,AB57),{1,2,3,4,5})),AD57),\"No race run\")","v":0.04194459184814438}]
[null,"Grieve","Wendy","F",{"$nulls":8},0.0992013888888889,{"$f":"95.2%*(M58*86400)*POWER((6.2138818/13.1094),1.07)/86400","v":0.042485377934075697},{"$nulls":14},1,0.042485377934075697,{"$f":"IF(COUNT(F58,H58,J58,L58:N58,P58,R58,T58,#REF!,X58)>5,5,COUNT(F58,H58,J58,L58:N58,P58,R58,T58,#REF!,X58))","v":2},{"$f":"IFERROR(IF(AC58>5,AVERAGE(SMALL((F58,H58,J58,L58,N58,P58,R58,T58,V58,X58,Z58,AB58),{1,2,3,4,5})),AD58),\"No race run\")","v":0.042485377934075697}]
[null,"Ward","Linda","F",{"$nulls":4},0.04370370370370371,{"$f":"98.7%*(I59)","v":0.04313555555555556},{"$nulls":18},1,0.04313555555555556,{"$f":"IF(COUNT(F59,H59,J59,L59:N59,P59,R59,T59,#REF!,X59)>5,5,COUNT(F59,H59,J59,L59:N59,P59,R59,T59,#REF!,X59))","v":1},{"$f":"IFERROR(IF(AC59>5,AVERAGE(SMALL((F59,H59,J59,L59,N59,P59,R59,T59,V59,X59,Z59,AB59),{1,2,3,4,5})),AD59),\"No race run\")","v":0.04313555555555556}]
[null,"Thomson","Susan","F",0.10270833333333333,{"$f":"98.2%*(E60*86400)*POWER((6.2138818/13.1094),1.07)/86400","v":0.045373465903542964},0.07018518518518518,{"$f":"99.3%*(G60*86400)*POWER((6.2138818/10),1.07)/86400","v":0.041888334762511616},{"$nulls":20},2,0.04363090033302729,{"$f":"IF(COUNT(F60,H60,J60,L60:N60,P60,R60,T60,#REF!,X60)>5,5,COUNT(F60,H60,J60,L60:N60,P60,R60,T60,#REF!,X60))","v":2},{"$f":"IFERROR(IF(AC60>5,AVERAGE(SMALL((F60,H60,J60,L60,N60,P60,R60,T60,V60,X60,Z60,AB60),{1,2,3,4,5})),AD60),\"No race run\")","v":0.04363090033302729}]
[null,"Eaton","Sarah","F",{"$nulls":4},0.04407407407407407,{"$f":"98.7%*(I61)","v":0.04350111111111111},{"$nulls":6},0.025868055555555557,{"$f":"99.9%*(Q61*86400)*POWER((6.2138818/3.9),1.07)/86400","v":0.04253912384448088},{"$nulls":4},0.044259259259259255,{"$f":"99.8%*(W61)","v":0.04417074074074074},null,null,0.07668981481481481,{"$f":"97.3%*(AA61*86400)*POWER((6.2138818/10),1.07)/86400","v":0.04484860369398439},4,0.043764894847579276,{"$f":"IF(COUNT(F61,H61,J61,L61:N61,P61,R61,T61,#REF!,X61)>5,5,COUNT(F61,H61,J61,L61:N61,P61,R61,T61,#REF!,X61))","v":3},{"$f":"IFERROR(IF(AC61>5,AVERAGE(SMALL((F61,H61,J61,L61,N61,P61,R61,T61,V61,X61,Z61,AB61),{1,2,3,4,5})),AD61),\"No race run\")","v":0.043764894847579276}]
[null,"Lopez","Hannah","F",null,null,0.0734837962962963,{"$f":"99.3%*(G62*86400)*POWER((6.2138818/10),1.07)/86400","v":0.0438570312346943},{"$nulls":8},0.026921296296296294,{"$f":"99.9%*(Q62*86400)*POWER((6.2138818/3.9),1.07)/86400","v":0.04427114186230985},{"$nulls":4},0.04398148148148148,{"$f":"99.8%*(W62)","v":0.04389351851851852},0.043946759259259255,{"$f":"98.7%*(Y62)","v":0.04337545138888888},0.07902777777777777,{"$f":"97.3%*(AA62*86400)*POWER((6.2138818/10),1.07)/86400","v":0.04621585662881458},5,0.04432259992664523,{"$f":"IF(COUNT(F62,H62,J62,L62:N62,P62,R62,T62,#REF!,X62)>5,5,COUNT(F62,H62,J62,L62:N62,P62,R62,T62,#REF!,X62))","v":3},{"$f":"IFERROR(IF(AC62>5,AVERAGE(SMALL((F62,H62,J62,L62,N62,P62,R62,T62,V62,X62,Z62,AB62),{1,2,3,4,5})),AD62),\"No race run\")","v":0.04432259992664523}]
[null,"Nouillan","Bill","M",0.12167824074074074,{"$f":"98.2%*(E63*86400)*POWER((6.2138818/13.1094),1.07)/86400","v":0.05375380291232219},{"$nulls":22},1,0.05375380291232219,{"$f":"IF(COUNT(F63,H63,J63,L63:N63,P63,R63,T63,#REF!,X63)>5,5,COUNT(F63,H63,J63,L63:N63,P63,R63,T63,#REF!,X63))","v":1},{"$f":"IFERROR(IF(AC63>5,AVERAGE(SMALL((F63,H63,J63,L63,N63,P63,R63,T63,V63,X63,Z63,AB63),{1,2,3,4,5})),AD63),\"No race run\")","v":0.05375380291232219}]
[{"$nulls":28},{"$f":"COUNT(F64,H64,J64,L64,N64,P64,R64,T64,V64,X64,Z64,AB64)","v":0},{"$f":"IFERROR(AVERAGE(F64,H64,J64,L64,N64,P64,R64,T64,V64,X64,Z64,AB64),\"No race run\")","v":"No race run"},{"$f":"IF(COUNT(F64,H64,J64,L64:N64,P64,R64,T64,#REF!,X64)>5,5,COUNT(F64,H64,J64,L64:N64,P64,R64,T64,#REF!,X64))","v":0},{"$f":"IFERROR(IF(AC64>5,AVERAGE(SMALL((F64,H64,J64,L64,N64,P64,R64,T64,V64,X64,Z64,AB64),{1,2,3,4,5})),AD64),\"No race run\")","v":"No race run"}]
[{"$nulls":28},0,"No race run",{"$f":"IF(COUNT(F65,H65,J65,L65:N65,P65,R65,T65,#REF!,X65)>5,5,COUNT(F65,H65,J65,L65:N65,P65,R65,T65,#REF!,X65))","v":0},{"$f":"IFERROR(IF(AC65>5,AVERAGE(SMALL((F65,H65,J65,L65,N65,P65,R65,T65,V65,X65,Z65,AB65),{1,2,3,4,5})),AD65),\"No race run\")","v":"No race run"}]
[{"$nulls":28},0,"No race run",{"$f":"IF(COUNT(F66,H66,J66,L66:N66,P66,R66,T66,#REF!,X66)>5,5,COUNT(F66,H66,J66,L66:N66,P66,R66,T66,#REF!,X66))","v":0},{"$f":"IFERROR(IF(AC66>5,AVERAGE(SMALL((F66,H66,J66,L66,N66,P66,R66,T66,V66,X66,Z66,AB66),{1,2,3,4,5})),AD66),\"No race run\")","v":"No race run"}]
[{"$nulls":28},0,"No race run",{"$f":"IF(COUNT(F67,H67,J67,L67:N67,P67,R67,T67,#REF!,X67)>5,5,COUNT(F67,H67,J67,L67:N67,P67,R67,T67,#REF!,X67))","v":0},{"$f":"IFERROR(IF(AC67>5,AVERAGE(SMALL((F67,H67,J67,L67,N67,P67,R67,T67,V67,X67,Z67,AB67),{1,2,3,4,5})),AD67),\"No race run\")","v":"No race run"}]
[{"$nulls":28},0,"No race run",{"$f":"IF(COUNT(F68,H68,J68,L68:N68,P68,R68,T68,#REF!,X68)>5,5,COUNT(F68,H68,J68,L68:N68,P68,R68,T68,#REF!,X68))","v":0},{"$f":"IFERROR(IF(AC68>5,AVERAGE(SMALL((F68,H68,J68,L68,N68,P68,R68,T68,V68,X68,Z68,AB68),{1,2,3,4,5})),AD68),\"No race run\")","v":"No race run"}]
[{"$nulls":28},0,"No race run",{"$f":"IF(COUNT(F69,H69,J69,L69:N69,P69,R69,T69,#REF!,X69)>5,5,COUNT(F69,H69,J69,L69:N69,P69,R69,T69,#REF!,X69))","v":0},{"$f":"IFERROR(IF(AC69>5,AVERAGE(SMALL((F69,H69,J69,L69,N69,P69,R69,T69,V69,X69,Z69,AB69),{1,2,3,4,5})),AD69),\"No race run\")","v":"No race run"}]
[{"$nulls":28},0,"No race run",{"$f":"IF(COUNT(F70,H70,J70,L70:N70,P70,R70,T70,#REF!,X70)>5,5,COUNT(F70,H70,J70,L70:N70,P70,R70,T70,#REF!,X70))","v":0},{"$f":"IFERROR(IF(AC70>5,AVERAGE(SMALL((F70,H70,J70,L70,N70,P70,R70,T70,V70,X70,Z70,AB70),{1,2,3,4,5})),AD70),\"No race run\")","v":"No race run"}]
[{"$nulls":28},0,{"$f":"IFERROR(AVERAGE(F71,H71,J71,L71,N71, P71,R71,T71,V71,X71,Z71),\"No race run\")","v":"No race run"},{"$f":"IF(COUNT(F71,H71,J71,L71:N71,P71,R71,T71,#REF!,X71)>5,5,COUNT(F71,H71,J71,L71:N71,P71,R71,T71,#REF!,X71))","v":0},{"$f":"IFERROR(IF(AC71>5,AVERAGE(SMALL((F71,H71,J71,L71,N71,P71,R71,T71,V71,X71,Z71,AB71),{1,2,3,4,5})),AD71),\"No race run\")","v":"No race run"}]
[{"$nulls":28},0,"No race run",{"$f":"IF(COUNT(F72,H72,J72,L72:N72,P72,R72,T72,#REF!,X72)>5,5,COUNT(F72,H72,J72,L72:N72,P72,R72,T72,#REF!,X72))","v":0},{"$f":"IFERROR(IF(AC72>5,AVERAGE(SMALL((F72,H72,J72,L72,N72,P72,R72,T72,V72,X72,Z72,AB72),{1,2,3,4,5})),AD72),\"No race run\")","v":"No race run"}]
[{"$nulls":28},0,"No race run",{"$f":"IF(COUNT(F73,H73,J73,L73:N73,P73,R73,T73,#REF!,X73)>5,5,COUNT(F73,H73,J73,L73:N73,P73,R73,T73,#REF!,X73))","v":0},{"$f":"IFERROR(IF(AC73>5,AVERAGE(SMALL((F73,H73,J73,L73,N73,P73,R73,T73,V73,X73,Z73,AB73),{1,2,3,4,5})),AD73),\"No race run\")","v":"No race run"}]
[{"$nulls":28},0,"No race run",{"$f":"IF(COUNT(F74,H74,J74,L74:N74,P74,R74,T74,#REF!,X74)>5,5,COUNT(F74,H74,J74,L74:N74,P74,R74,T74,#REF!,X74))","v":0},{"$f":"IFERROR(IF(AC74>5,AVERAGE(SMALL((F74,H74,J74,L74,N74,P74,R74,T74,V74,X74,Z74,AB74),{1,2,3,4,5})),AD74),\"No race run\")","v":"No race run"}]
[{"$nulls":28},0,"No race run",{"$f":"IF(COUNT(F75,H75,J75,L75:N75,P75,R75,T75,#REF!,X75)>5,5,COUNT(F75,H75,J75,L75:N75,P75,R75,T75,#REF!,X75))","v":0},{"$f":"IFERROR(IF(AC75>5,AVERAGE(SMALL((F75,H75,J75,L75,N75,P75,R75,T75,V75,X75,Z75,AB75),{1,2,3,4,5})),AD75),\"No race run\")","v":"No race run"}]
[{"$nulls":28},0,"No race run",{"$f":"IF(COUNT(F76,H76,J76,L76:N76,P76,R76,T76,#REF!,X76)>5,5,COUNT(F76,H76,J76,L76:N76,P76,R76,T76,#REF!,X76))","v":0},{"$f":"IFERROR(IF(AC76>5,AVERAGE(SMALL((F76,H76,J76,L76,N76,P76,R76,T76,V76,X76,Z76,AB76),{1,2,3,4,5})),AD76),\"No race run\")","v":"No race run"}]
[{"$nulls":28},0,"No race run",{"$f":"IF(COUNT(F77,H77,J77,L77:N77,P77,R77,T77,#REF!,X77)>5,5,COUNT(F77,H77,J77,L77:N77,P77,R77,T77,#REF!,X77))","v":0},{"$f":"IFERROR(IF(AC77>5,AVERAGE(SMALL((F77,H77,J77,L77,N77,P77,R77,T77,V77,X77,Z77,AB77),{1,2,3,4,5})),AD77),\"No race run\")","v":"No race run"}]
[{"$nulls":28},0,"No race run",{"$f":"IF(COUNT(F78,H78,J78,L78:N78,P78,R78,T78,#REF!,X78)>5,5,COUNT(F78,H78,J78,L78:N78,P78,R78,T78,#REF!,X78))","v":0},{"$f":"IFERROR(IF(AC78>5,AVERAGE(SMALL((F78,H78,J78,L78,N78,P78,R78,T78,V78,X78,Z78,AB78),{1,2,3,4,5})),AD78),\"No race run\")","v":"No race run"}]
[{"$nulls":28},0,"No race run",{"$f":"IF(COUNT(F79,H79,J79,L79:N79,P79,R79,T79,#REF!,X79)>5,5,COUNT(F79,H79,J79,L79:N79,P79,R79,T79,#REF!,X79))","v":0},{"$f":"IFERROR(IF(AC79>5,AVERAGE(SMALL((F79,H79,J79,L79,N79,P79,R79,T79,V79,X79,Z79,AB79),{1,2,3,4,5})),AD79),\"No race run\")","v":"No race run"}]
[{"$nulls":28},0,"No race run",{"$f":"IF(COUNT(F80,H80,J80,L80:N80,P80,R80,T80,#REF!,X80)>5,5,COUNT(F80,H80,J80,L80:N80,P80,R80,T80,#REF!,X80))","v":0},{"$f":"IFERROR(IF(AC80>5,AVERAGE(SMALL((F80,H80,J80,L80,N80,P80,R80,T80,V80,X80,Z80,AB80),{1,2,3,4,5})),AD80),\"No race run\")","v":"No race run"}]
[{"$nulls":28},0,"No race run",{"$f":"IF(COUNT(F81,H81,J81,L81:N81,P81,R81,T81,#REF!,X81)>5,5,COUNT(F81,H81,J81,L81:N81,P81,R81,T81,#REF!,X81))","v":0},{"$f":"IFERROR(IF(AC81>5,AVERAGE(SMALL((F81,H81,J81,L81,N81,P81,R81,T81,V81,X81,Z81,AB81),{1,2,3,4,5})),AD81),\"No race run\")","v":"No race run"}]
[{"$nulls":28},0,"No race run",{"$f":"IF(COUNT(F82,H82,J82,L82:N82,P82,R82,T82,#REF!,X82)>5,5,COUNT(F82,H82,J82,L82:N82,P82,R82,T82,#REF!,X82))","v":0},{"$f":"IFERROR(IF(AC82>5,AVERAGE(SMALL((F82,H82,J82,L82,N82,P82,R82,T82,V82,X82,Z82,AB82),{1,2,3,4,5})),AD82),\"No race run\")","v":"No race run"}]
[{"$nulls":28},0,"No race run",{"$f":"IF(COUNT(F83,H83,J83,L83:N83,P83,R83,T83,#REF!,X83)>5,5,COUNT(F83,H83,J83,L83:N83,P83,R83,T83,#REF!,X83))","v":0},{"$f":"IFERROR(IF(AC83>5,AVERAGE(SMALL((F83,H83,J83,L83,N83,P83,R83,T83,V83,X83,Z83,AB83),{1,2,3,4,5})),AD83),\"No race run\")","v":"No race run"}]
[{"$nulls":28},0,"No race run",{"$f":"IF(COUNT(F84,H84,J84,L84:N84,P84,R84,T84,#REF!,X84)>5,5,COUNT(F84,H84,J84,L84:N84,P84,R84,T84,#REF!,X84))","v":0},{"$f":"IFERROR(IF(AC84>5,AVERAGE(SMALL((F84,H84,J84,L84,N84,P84,R84,T84,V84,X84,Z84,AB84),{1,2,3,4,5})),AD84),\"No race run\")","v":"No race run"}]
[{"$nulls":28},0,"No race run",{"$f":"IF(COUNT(F85,H85,J85,L85:N85,P85,R85,T85,#REF!,X85)>5,5,COUNT(F85,H85,J85,L85:N85,P85,R85,T85,#REF!,X85))","v":0},{"$f":"IFERROR(IF(AC85>5,AVERAGE(SMALL((F85,H85,J85,L85,N85,P85,R85,T85,V85,X85,Z85,AB85),{1,2,3,4,5})),AD85),\"No race run\")","v":"No race run"}]
[{"$nulls":28},0,"No race run",{"$f":"IF(COUNT(F86,H86,J86,L86:N86,P86,R86,T86,#REF!,X86)>5,5,COUNT(F86,H86,J86,L86:N86,P86,R86,T86,#REF!,X86))","v":0},{"$f":"IFERROR(IF(AC86>5,AVERAGE(SMALL((F86,H86,J86,L86,N86, P86,R86,T86,V86,X86,Z86),{1,2,3,4,5})),AD86),\"No race run\")","v":"No race run"}]
[{"$nulls":28},0,"No race run",{"$f":"IF(COUNT(F87,H87,J87,L87:N87,P87,R87,T87,#REF!,X87)>5,5,COUNT(F87,H87,J87,L87:N87,P87,R87,T87,#REF!,X87))","v":0},{"$f":"IFERROR(IF(AC87>5,AVERAGE(SMALL((F87,H87,J87,L87,N87, P87,R87,T87,V87,X87,Z87),{1,2,3,4,5})),AD87),\"No race run\")","v":"No race run"}]
[{"$nulls":28},0,"No race run",{"$f":"IF(COUNT(F88,H88,J88,L88:N88,P88,R88,T88,#REF!,X88)>5,5,COUNT(F88,H88,J88,L88:N88,P88,R88,T88,#REF!,X88))","v":0},{"$f":"IFERROR(IF(AC88>5,AVERAGE(SMALL((F88,H88,J88,L88,N88, P88,R88,T88,V88,X88,Z88),{1,2,3,4,5})),AD88),\"No race run\")","v":"No race run"}]
[{"$nulls":28},0,"No race run",{"$f":"IF(COUNT(F89,H89,J89,L89:N89,P89,R89,T89,#REF!,X89)>5,5,COUNT(F89,H89,J89,L89:N89,P89,R89,T89,#REF!,X89))","v":0},{"$f":"IFERROR(IF(AC89>5,AVERAGE(SMALL((F89,H89,J89,L89,N89, P89,R89,T89,V89,X89,Z89),{1,2,3,4,5})),AD89),\"No race run\")","v":"No race run"}]
[{"$nulls":28},0,"No race run",{"$f":"IF(COUNT(F90,H90,J90,L90:N90,P90,R90,T90,#REF!,X90)>5,5,COUNT(F90,H90,J90,L90:N90,P90,R90,T90,#REF!,X90))","v":0},{"$f":"IFERROR(IF(AC90>5,AVERAGE(SMALL((F90,H90,J90,L90,N90, P90,R90,T90,V90,X90,Z90),{1,2,3,4,5})),AD90),\"No race run\")","v":"No race run"}]
[{"$nulls":28},0,"No race run",{"$f":"IF(COUNT(F91,H91,J91,L91:N91,P91,R91,T91,#REF!,X91)>5,5,COUNT(F91,H91,J91,L91:N91,P91,R91,T91,#REF!,X91))","v":0},{"$f":"IFERROR(IF(AC91>5,AVERAGE(SMALL((F91,H91,J91,L91,N91, P91,R91,T91,V91,X91,Z91),{1,2,3,4,5})),AD91),\"No race run\")","v":"No race run"}]
[{"$nulls":28},0,"No race run",{"$f":"IF(COUNT(F92,H92,J92,L92:N92,P92,R92,T92,#REF!,X92)>5,5,COUNT(F92,H92,J92,L92:N92,P92,R92,T92,#REF!,X92))","v":0},{"$f":"IFERROR(IF(AC92>5,AVERAGE(SMALL((F92,H92,J92,L92,N92, P92,R92,T92,V92,X92,Z92),{1,2,3,4,5})),AD92),\"No race run\")","v":"No race run"}]
[{"$nulls":28},{"$f":"COUNT(F93,H93,J93,L93,N93, P93,R93,T93,V93,X93,#REF!,Z93)","v":0},"No race run",{"$f":"IF(COUNT(F93,H93,J93,L93:N93,P93,R93,T93,#REF!,X93)>5,5,COUNT(F93,H93,J93,L93:N93,P93,R93,T93,#REF!,X93))","v":0},{"$f":"IFERROR(IF(AC93>5,AVERAGE(SMALL((F93,H93,J93,L93,N93, P93,R93,T93,V93,X93,Z93),{1,2,3,4,5})),AD93),\"No race run\")","v":"No race run"}]
[{"$nulls":28},{"$f":"COUNT(F94,H94,J94,L94,N94, P94,R94,T94,V94,X94,#REF!,Z94)","v":0},"No race run",{"$f":"IF(COUNT(F94,H94,J94,L94:N94,P94,R94,T94,#REF!,X94)>5,5,COUNT(F94,H94,J94,L94:N94,P94,R94,T94,#REF!,X94))","v":0},{"$f":"IFERROR(IF(AC94>5,AVERAGE(SMALL((F94,H94,J94,L94,N94, P94,R94,T94,V94,X94,Z94),{1,2,3,4,5})),AD94),\"No race run\")","v":"No race run"}]
[{"$nulls":28},{"$f":"COUNT(F95,H95,J95,L95,N95, P95,R95,T95,V95,X95,#REF!,Z95)","v":0},"No race run",{"$f":"IF(COUNT(F95,H95,J95,L95:N95,P95,R95,T95,#REF!,X95)>5,5,COUNT(F95,H95,J95,L95:N95,P95,R95,T95,#REF!,X95))","v":0},{"$f":"IFERROR(IF(AC95>5,AVERAGE(SMALL((F95,H95,J95,L95,N95, P95,R95,T95,V95,X95,Z95),{1,2,3,4,5})),AD95),\"No race run\")","v":"No race run"}]
{"$rows_empty":278}
[{"$nulls":5},"s"]